BEGIN:VCALENDAR
VERSION:2.0
PRODID:www.reiseland-brandenburg.de
BEGIN:VEVENT
UID:69e76699b0154
DTSTART:20260502T120000Z
SEQUENCE:0
TRANSP:OPAQUE
DTEND:20260502T160000Z
URL:http://www.reiseland-brandenburg.de/veranstaltung/barnimer-land/offene-
 ateliers-2026-dieter-szczesinski
LOCATION:Dieter Szczesinski\, Rosengarten 42\, 16348 Wandlitz
X-APPLE-STRUCTURED-LOCATION;VALUE=URI;X-ADDRESS="Dieter Szczesinski, Roseng
 arten 42, 16348 Wandlitz";X-APPLE-RADIUS=49;X-TITLE=Dieter Szczesinski:geo
 :13.444683,52.715464
GEO:13.444683;52.715464
SUMMARY:Offene Ateliers 2026: Dieter Szczesinski
CLASS:PUBLIC
DESCRIPTION:Malerei\, Grafik\, Zeichnung\, Illustration\n\nKontakt:\n\nSzcz
 esinski\nRosengarten 42\n16348 Wandlitz\nTelefon: +49 01577 6209120\nEmail
 : \n\nWeitere Informationen zur Veranstaltung: http://www.reiseland-brande
 nburg.de/veranstaltung/barnimer-land/offene-ateliers-2026-dieter-szczesins
 ki
CATEGORIES:Ausstellung
DTSTAMP:20260421T115921Z
END:VEVENT
BEGIN:VEVENT
UID:69e76699c35e5
DTSTART:20260503T090000Z
SEQUENCE:0
TRANSP:OPAQUE
DTEND:20260503T160000Z
URL:http://www.reiseland-brandenburg.de/veranstaltung/barnimer-land/offene-
 ateliers-2026-dieter-szczesinski
LOCATION:Dieter Szczesinski\, Rosengarten 42\, 16348 Wandlitz
X-APPLE-STRUCTURED-LOCATION;VALUE=URI;X-ADDRESS="Dieter Szczesinski, Roseng
 arten 42, 16348 Wandlitz";X-APPLE-RADIUS=49;X-TITLE=Dieter Szczesinski:geo
 :13.444683,52.715464
GEO:13.444683;52.715464
SUMMARY:Offene Ateliers 2026: Dieter Szczesinski
CLASS:PUBLIC
DESCRIPTION:Malerei\, Grafik\, Zeichnung\, Illustration\n\nKontakt:\n\nSzcz
 esinski\nRosengarten 42\n16348 Wandlitz\nTelefon: +49 01577 6209120\nEmail
 : \n\nWeitere Informationen zur Veranstaltung: http://www.reiseland-brande
 nburg.de/veranstaltung/barnimer-land/offene-ateliers-2026-dieter-szczesins
 ki
CATEGORIES:Ausstellung
DTSTAMP:20260421T115921Z
END:VEVENT
END:VCALENDAR