BEGIN:VCALENDAR
VERSION:2.0
PRODID:www.reiseland-brandenburg.de
BEGIN:VEVENT
UID:69e73984a16a9
DTSTART:20260423T173000Z
SEQUENCE:0
TRANSP:OPAQUE
DTEND:20260423T190000Z
URL:http://www.reiseland-brandenburg.de/veranstaltung/seenland-oder-spree/k
 onzert-skolim
LOCATION:Collegium Polonicum\, ul. Kościuszki 1\, 69100 Słubice
X-APPLE-STRUCTURED-LOCATION;VALUE=URI;X-ADDRESS="Collegium Polonicum, ul. K
 ościuszki 1, 69100 Słubice";X-APPLE-RADIUS=49;X-TITLE=Collegium Polonicu
 m:geo:14.559188,52.349031
GEO:14.559188;52.349031
SUMMARY:Konzert: Skolim
CLASS:PUBLIC
DESCRIPTION:Konrad Skolimowski ist derzeit einer der beliebtesten Künstler
  in Polen. Er wird als „König des Latino“ bezeichnet. Seine Songs wer
 den bereits am Tag ihrer Veröffentlichung vom Publikum als echte Hits gef
 eiert\, und seine Musikvideos erzielen auf YouTube Millionen von Aufrufen.
  Ein Beispiel dafür sind seine drei neuen Songs\, die in den letzten Mona
 ten entstanden sind.\n\nKontakt:\n\nbiletyna.pl\n\n \nTelefon: \nEmail: fb
 -inquiry@biletyna.pl\nWebseite: https://biletyna.pl\n\nWeitere Information
 en zur Veranstaltung: http://www.reiseland-brandenburg.de/veranstaltung/se
 enland-oder-spree/konzert-skolim
CATEGORIES:Rock / Pop / Jazz
DTSTAMP:20260421T084701Z
END:VEVENT
END:VCALENDAR