BEGIN:VCALENDAR
VERSION:2.0
PRODID:www.reiseland-brandenburg.de
BEGIN:VEVENT
UID:69e9f06563164
DTSTART:20260502T170000Z
SEQUENCE:0
TRANSP:OPAQUE
DTEND:20260502T220000Z
URL:http://www.reiseland-brandenburg.de/veranstaltung/havelland/paarener-sc
 hlager-nacht-2026
LOCATION:Dorfaue\, Hauptstraße 21\, 14621 Schönwalde-Glien
X-APPLE-STRUCTURED-LOCATION;VALUE=URI;X-ADDRESS="Dorfaue, Hauptstraße 21, 
 14621 Schönwalde-Glien";X-APPLE-RADIUS=49;X-TITLE=Dorfaue:geo:12.979339,5
 2.654165
GEO:12.979339;52.654165
SUMMARY:Paarener Schlager Nacht 2026
CLASS:PUBLIC
DESCRIPTION:Feiert mit uns bei Live-Schlagermusik\, Partyhits und bester St
 immung! Das beheizte Festzelt bietet eine Cocktailbar\, Bierstände und le
 ckere Imbissangebote.\n\nKontakt:\n\nJugendclub Paaren e.V.\nHauptstraße 
 37\n14621 Schönwalde-Gien\nTelefon: +49 174 1854463\nEmail: tim.miericke@
 gmx.de\n\nWeitere Informationen zur Veranstaltung: http://www.reiseland-br
 andenburg.de/veranstaltung/havelland/paarener-schlager-nacht-2026
DTSTAMP:20260423T101151Z
END:VEVENT
END:VCALENDAR