BEGIN:VCALENDAR
VERSION:2.0
PRODID:www.reiseland-brandenburg.de
BEGIN:VEVENT
UID:69e7395d9c8c8
DTSTART:20260606T080000Z
SEQUENCE:0
TRANSP:OPAQUE
DTEND:20260606T150000Z
URL:http://www.reiseland-brandenburg.de/veranstaltung/uckermark/kinderfest-
 vom-hirschschwimmen-angermuende-ev
LOCATION:Die Mündeseepromenade: Eine Burg und Skulpturen\, Ring\, 16278 An
 germünde
X-APPLE-STRUCTURED-LOCATION;VALUE=URI;X-ADDRESS="Die Mündeseepromenade: Ei
 ne Burg und Skulpturen, Ring, 16278 Angermünde";X-APPLE-RADIUS=49;X-TITLE
 ="Die Mündeseepromenade: Eine Burg und Skulpturen":geo:14.001711,53.02169
 5
GEO:14.001711;53.021695
SUMMARY:Kinderfest vom Hirschschwimmen Angermünde e.V.
CLASS:PUBLIC
DESCRIPTION:Die Promenade am Mündesee verwandelt sich wieder in eine Kinde
 rwelt. Der Hirschverein Angermünde bietet auch in diesem Jahr ein kunterb
 untes\, vielseitiges Programm an Attraktionen\, Wettbewerben und Spielange
 boten. \n\nDank vieler unterschiedlicher Akteure\, die den Verein schon se
 it Jahren unterstützen und neuen Partnern\, erstreckt sich die Festmeile 
 erstmals vom Bollwerk bis zum Café Seeblick. Auf einen halben Kilometer r
 eihen sich Hüpfburgen\, Kinder-Karussell\, Reitstation\, Power-Painting\,
  Bastelstrecke\, Hexe Klecks und viele andere Angebote für die kleinen un
 d auch großen Besucher. \n\nAußerdem präsentieren sich wieder viele reg
 ionale Vereine wie dem Deutschen Roten Kreuz\, der Angermünder Feuerwehr 
 oder dem Anglerverband. Natürlich wird auch für das leibliche Wohl gesor
 gt sein. Zuckerwatte\, Popcorn und Waffeln für die Kinder\, Kaffee und Ku
 chen für die großen Gäste. Auch Leckeres vom Grill und ein paar kulinar
 ische Überraschungen sorgen für den nötigen Energieschub\, um sich rich
 tig austoben zu können. Im vergangenen Jahr reichte das Kinderfest „nur
 “ bis zum Schlosswall. Am 6. Juni erstreckt sich das Kinderparadies bis 
 zum Bollwerk. \n\nDank der Partner und vielen Sponsoren sind wie in jedem 
 Jahr die Kinderattraktionen kostenlos. Vielen Dank noch einmal an alle Unt
 erstützer und Helfer.\n\nKontakt:\n\nHirschschwimmen Angermünde e.V.\n\n
  \nTelefon: +49 3331 301816\nEmail: \n\nWeitere Informationen zur Veransta
 ltung: http://www.reiseland-brandenburg.de/veranstaltung/uckermark/kinderf
 est-vom-hirschschwimmen-angermuende-ev
CATEGORIES:Fest / Brauchtum
DTSTAMP:20260421T084621Z
END:VEVENT
END:VCALENDAR