BEGIN:VCALENDAR
VERSION:2.0
PRODID:www.reiseland-brandenburg.de
BEGIN:VEVENT
UID:69ed7dfcb226e
DTSTART:20260508T150000Z
SEQUENCE:0
TRANSP:OPAQUE
DTEND:20260508T163000Z
URL:http://www.reiseland-brandenburg.de/veranstaltung/lausitzer-seenland/fr
 ag-den-oberbuergermeister-4
LOCATION:Brigitte-Reimann-Stadtbibliothek Hoyerswerda\, Dietrich-Bonhoeffer
 -Straße 6/7\, 02977 Hoyerswerda
X-APPLE-STRUCTURED-LOCATION;VALUE=URI;X-ADDRESS="Brigitte-Reimann-Stadtbibl
 iothek Hoyerswerda, Dietrich-Bonhoeffer-Straße 6/7, 02977 Hoyerswerda";X-
 APPLE-RADIUS=49;X-TITLE=Brigitte-Reimann-Stadtbibliothek Hoyerswerda:geo:1
 4.256906,51.436332
GEO:14.256906;51.436332
SUMMARY:Frag den Oberbürgermeister
CLASS:PUBLIC
DESCRIPTION:Sie wollten den Oberbürgermeister schon immer etwas fragen?  \
 nJetzt haben Sie die Gelegenheit dazu! \n\n**Thema: „Feuerwehr in Hoyers
 werda“ (Information durch Fachbereichsleiter Benny Bastisch)**\n\nIn der
  Brigitte-Reimann-Stadtbibliothek werden regelmäßige Treffen mit dem Obe
 rbürgermeister Torsten Ruban-Zeh organisiert.  \nBei uns haben Sie die M
 öglichkeit\, mit Ihm ins Gespräch zu kommen\, Fragen zu stellen und Ihre
  Ideen für ein besseres Hoyerswerda zu äußern.  \nKommen Sie in die Bib
 liothek\, um den Oberbürgermeister kennen zu lernen!\n\nKontakt:\n\nBrigi
 tte-Reimann-Stadtbibliothek Hoyerswerda\nDietrich-Binhoeffer-Straße 6/7\n
 02977 Hoyerswerda\nTelefon: +49 03571\nEmail: \nWebseite: https://biblioth
 ek-hy.de/\n\nWeitere Informationen zur Veranstaltung: http://www.reiseland
 -brandenburg.de/veranstaltung/lausitzer-seenland/frag-den-oberbuergermeist
 er-4
CATEGORIES:Lesung / Vortrag
DTSTAMP:20260426T025244Z
END:VEVENT
END:VCALENDAR