BEGIN:VCALENDAR
VERSION:2.0
PRODID:www.reiseland-brandenburg.de
BEGIN:VEVENT
UID:69eb4a2d932f4
DTSTART:20260424T140000Z
SEQUENCE:0
TRANSP:OPAQUE
DTEND:20260424T163000Z
URL:http://www.reiseland-brandenburg.de/veranstaltung/potsdam/workshop-wild
 e-vielfalt-ab-ins-beet-wir-pflanzen-fuer-die-wildbienen
LOCATION:Ökolaube des NABU KV Potsdam\, 34\, 14478 Potsdam
X-APPLE-STRUCTURED-LOCATION;VALUE=URI;X-ADDRESS="Ökolaube des NABU KV Pots
 dam, 34, 14478 Potsdam";X-APPLE-RADIUS=49;X-TITLE=Ökolaube des NABU KV Po
 tsdam:geo:13.048838,52.399551
GEO:13.048838;52.399551
SUMMARY:Workshop - \"Wilde Vielfalt? Ab ins Beet! - Wir pflanzen für die W
 ildbienen\"
CLASS:PUBLIC
DESCRIPTION:Was ist der Unterschied zwischen Wildbienen und Honigbienen? Wi
 e leben Wildbienen? Was benötigen sie? Wildbienen sind unsere spezialisie
 rten Helfer. Leider gehen ihre Bestände weiter zurück. Umso wichtiger wi
 rd es\, die richtigen Pflanzen und Lebensräume für Wildbienen in unseren
  Gärten zu etablieren. In diesem Workshop zeigen wir euch\, wie ihr mit d
 er richtigen Pflanzenauswahl und einfachen Gestaltungsschritten echte Lebe
 nsräume schafft.\n\nIn unserer Ökolaube **„Am Schlaatz“** gibt Nicol
 e Riekeles von „Lebendige Naturgärten“ **am 24. April von 16 bis 18.3
 0 Uhr** einen praxisnahen Einblick in die Bedürfnisse von Wildbienen. Ihr
  lernt\, welche Pflanzen besonders wertvoll sind\, worauf es bei Struktur 
 und Standort ankommt und wie ein insektenfreundliches Staudenbeet sinnvoll
  angelegt werden kann. Anschließend geht es direkt in die Praxis: Gemeins
 am legen wir ein wildbienenfreundliches Wildstaudenbeet in unserem Naturga
 rten an - zum Mitmachen\, Fragenstellen und Ausprobieren. \n\nDer Workshop
  ist kostenfrei. Über eine Spende für den Naturschutz freuen wir uns. \n
 \nAnmeldung: Bitte bis zum 22. April unter info@nabu-potsdam.de oder   \n[
 Anmeldung - Veranstaltungen  – Formular ausfüllen](https://forms.office
 .com/r/NzJjpWFRW0)\n\nTeilnehmerzahl: 5 bis maximal 10 Personen\n\nKontakt
 :\n\nNABU KV Potsdam\nLindenstraße 34\n14467 Potsdam\nTelefon: +49\nEmail
 : \n\nWeitere Informationen zur Veranstaltung: http://www.reiseland-brande
 nburg.de/veranstaltung/potsdam/workshop-wilde-vielfalt-ab-ins-beet-wir-pfl
 anzen-fuer-die-wildbienen
CATEGORIES:Workshop / Seminar
DTSTAMP:20260424T104710Z
END:VEVENT
END:VCALENDAR