BEGIN:VCALENDAR
VERSION:2.0
PRODID:www.reiseland-brandenburg.de
BEGIN:VEVENT
UID:69e4c70bd7c9f
DTSTART:20260515T170000Z
SEQUENCE:0
TRANSP:OPAQUE
DTEND:20260515T190000Z
URL:http://www.reiseland-brandenburg.de/veranstaltung/spreewald/meditations
 genuss-zur-neumondin-mit-katrin-hildebrand
LOCATION:NaturRaum Spreewald (Weidenweg 10)\, Weidenweg 10\, 03096 Burg (Sp
 reewald)
X-APPLE-STRUCTURED-LOCATION;VALUE=URI;X-ADDRESS="NaturRaum Spreewald (Weide
 nweg 10), Weidenweg 10, 03096 Burg (Spreewald)";X-APPLE-RADIUS=49;X-TITLE=
 NaturRaum Spreewald (Weidenweg 10):geo:14.113518,51.855915
GEO:14.113518;51.855915
SUMMARY:Meditationsgenuss zur Neumondin mit Katrin Hildebrand
CLASS:PUBLIC
DESCRIPTION:Ich lade Dich ein\, gemeinsam mit mir den Raum der Stille\, den
  stillen Raum in Dir\, zu betreten. Im geschützten Meditationsraum des Na
 turRaum Spreewald tauchst Du ein\, Dir selbst wieder näher zu kommen. Las
 s Dich leise berühren von meiner selbstgeschriebenen Meditation\, fühle 
 und entdecke Dein wahres Potential. Du bist da. Und dies genügt. Zauber D
 ir ein Lächeln auf Dein Gesicht und fühle dieses In-Einklang-Kommen.\n\n
 Was wünschst Du Dir von diesem Frühling? Was darf kommen\, was darf gehe
 n? Öffne Dich für all die Wunder und Möglichkeiten\, die jetzt in Dein 
 Leben kommen möchten. Lass Dich ein\, in der Frequenz der neuen Zeit zu s
 chwingen.\n\nDeine Zeit\, Dein Raum für kreatives Schöpfen & Heilen.\n\n
 Es ist die Liebe\, die die Welt zusammenhält. Dankbarkeit steht hinter al
 lem.\n\nIch freue mich auf Dich.\n\nAlles Liebe Katrin\n\nKontakt:\n\nNatu
 rRaum Spreewald\nWeidenweg 10a\n03096 Burg (Spreewald)\nTelefon: \nEmail: 
 kontakt@naturraum-spreewald.de\n\nWeitere Informationen zur Veranstaltung:
  http://www.reiseland-brandenburg.de/veranstaltung/spreewald/meditationsge
 nuss-zur-neumondin-mit-katrin-hildebrand
CATEGORIES:Wellness / Gesundheit
DTSTAMP:20260419T121403Z
END:VEVENT
END:VCALENDAR