BEGIN:VCALENDAR
VERSION:2.0
PRODID:www.reiseland-brandenburg.de
BEGIN:VEVENT
UID:69e609c47bf59
DTSTART:20260420T140000Z
SEQUENCE:0
TRANSP:OPAQUE
DTEND:20260420T160000Z
URL:http://www.reiseland-brandenburg.de/veranstaltung/potsdam/geschichte-in
 -haenden-halten-inklusive-tastfuehrung
LOCATION:Stiftung Gedenkstätte Lindenstraße\, Lindenstraße 54\, 14467 Po
 tsdam
X-APPLE-STRUCTURED-LOCATION;VALUE=URI;X-ADDRESS="Stiftung Gedenkstätte Lin
 denstraße, Lindenstraße 54, 14467 Potsdam";X-APPLE-RADIUS=49;X-TITLE=Sti
 ftung Gedenkstätte Lindenstraße:geo:13.048838,52.399551
GEO:13.048838;52.399551
SUMMARY:Geschichte in Händen halten – inklusive Tastführung
CLASS:PUBLIC
DESCRIPTION:Bei dieser Führung ertasten Sie die Geschichte der Gedenkstät
 te Lindenstraße mit Ihren Händen: Wände\, Gitter\, Schlösser und Ansta
 ltskleidung. Für Menschen mit und ohne Sehbehinderung.\n\n**Hinweis:**  \
 nBitte melden Sie sich per E-Mail an: info@gedenkstaette-lindenstrasse.de 
  \nSie müssen Treppen steigen können. Es gibt Sitzgelegenheiten. Für Me
 nschen mit schwerer Sehbehinderung empfehlen wir eine Begleitperson.\n\nKo
 ntakt:\n\nStiftung Gedenkstätte Lindenstraße\nTina Weber-Volk\nLindenstr
 aße 54\n14467 Potsdam\nTelefon: +49 331 971 89 000\nEmail: info@gedenksta
 ette-lindenstrasse.de\nWebseite: https://www.gedenkstaette-lindenstrasse.d
 e/\n\nWeitere Informationen zur Veranstaltung: http://www.reiseland-brande
 nburg.de/veranstaltung/potsdam/geschichte-in-haenden-halten-inklusive-tast
 fuehrung
CATEGORIES:Führung / Besichtigung
DTSTAMP:20260420T111100Z
END:VEVENT
END:VCALENDAR