BEGIN:VCALENDAR
VERSION:2.0
PRODID:www.reiseland-brandenburg.de
BEGIN:VEVENT
UID:69eb4b5428db6
DTSTART:20260424T080000Z
SEQUENCE:0
TRANSP:OPAQUE
DTEND:20260424T110000Z
URL:http://www.reiseland-brandenburg.de/veranstaltung/potsdam/stimmen-hoere
 n-verstehen-begegnen-begleiten
LOCATION:Kontakt-und Beratungsstelle Potsdam für psychische Gesundheit\, F
 riedrich-Ebert-Str. 33\, 14469 Potsdam
X-APPLE-STRUCTURED-LOCATION;VALUE=URI;X-ADDRESS="Kontakt-und Beratungsstell
 e Potsdam für psychische Gesundheit, Friedrich-Ebert-Str. 33, 14469 Potsd
 am";X-APPLE-RADIUS=49;X-TITLE=Kontakt-und Beratungsstelle Potsdam für psy
 chische Gesundheit:geo:13.048838,52.399551
GEO:13.048838;52.399551
SUMMARY:Stimmen hören – verstehen\, begegnen\, begleiten
CLASS:PUBLIC
DESCRIPTION:Wie entstehen Stimmen im Kopf? Was machen die Stimmen?  \nWie k
 ann man gut damit umgehen?  \nDer Workshop richtet sich an Fachkräfte\, B
 etroffene und Angehörige.  \nEs gibt Erfahrungsberichte und praktische Ti
 pps.\n\n**Hinweis:**  \nBitte melden Sie sich bis zum 17. April 2026 an.  
 \nFachpersonal ist die ganze Zeit da.  \nEs unterstützt Sie\, wenn es Ihn
 en nicht gut geht oder wenn Sie Hilfe brauchen.\n\nKontakt:\n\nFortbildung
 sakademie der Wirtschaft (faw) g GmbH\nJana Kursawe\n\n \nTelefon: +49 331
  20097011\nEmail: jana.kursawe@faw.de\n\nWeitere Informationen zur Veranst
 altung: http://www.reiseland-brandenburg.de/veranstaltung/potsdam/stimmen-
 hoeren-verstehen-begegnen-begleiten
CATEGORIES:Sport
DTSTAMP:20260424T105204Z
END:VEVENT
END:VCALENDAR