BEGIN:VCALENDAR
VERSION:2.0
PRODID:www.reiseland-brandenburg.de
BEGIN:VEVENT
UID:69ed71ab76740
DTSTART:20260627T170000Z
SEQUENCE:0
TRANSP:OPAQUE
DTEND:20260627T200000Z
URL:http://www.reiseland-brandenburg.de/veranstaltung/seenland-oder-spree/h
 ier-tanzt-jeder-2
LOCATION:Das Aldo\, Beeskower Chaussee 9\, 15864 Wendisch Rietz
X-APPLE-STRUCTURED-LOCATION;VALUE=URI;X-ADDRESS="Das Aldo, Beeskower Chauss
 ee 9, 15864 Wendisch Rietz";X-APPLE-RADIUS=49;X-TITLE=Das Aldo:geo:14.0089
 25,52.206304
GEO:14.008925;52.206304
SUMMARY:\"Hier tanzt jeder\"
CLASS:PUBLIC
DESCRIPTION:Musikalische Unterhaltung mit DJ Con Tappa..  \nFür Speisen un
 d Getränke ist gesorgt.\n\nKontakt:\n\nDas Aldo\nBeeskower Chaussee 9\n15
 864 Wendisch Rietz\nTelefon: +49 162 9246288\nEmail: \n\nWeitere Informati
 onen zur Veranstaltung: http://www.reiseland-brandenburg.de/veranstaltung/
 seenland-oder-spree/hier-tanzt-jeder-2
CATEGORIES:Fest / Brauchtum
DTSTAMP:20260426T020011Z
END:VEVENT
END:VCALENDAR