BEGIN:VCALENDAR
VERSION:2.0
PRODID:www.reiseland-brandenburg.de
BEGIN:VEVENT
UID:69e7a9efeed40
DTSTART:20260426T123000Z
SEQUENCE:0
TRANSP:OPAQUE
DTEND:20260426T143000Z
URL:http://www.reiseland-brandenburg.de/veranstaltung/seenland-oder-spree/g
 esamtfuehrung-ueber-das-neuzeller-klostergelaende-sonderfuehrung
LOCATION:Kloster Neuzelle\, Stiftsplatz 7\, 15898 Neuzelle
X-APPLE-STRUCTURED-LOCATION;VALUE=URI;X-ADDRESS="Kloster Neuzelle, Stiftspl
 atz 7, 15898 Neuzelle";X-APPLE-RADIUS=49;X-TITLE=Kloster Neuzelle:geo:14.6
 52664,52.091742
GEO:14.652664;52.091742
SUMMARY:Gesamtführung über das Neuzeller Klostergelände - Sonderführung
CLASS:PUBLIC
DESCRIPTION:Wandeln Sie mit erfahrenen Gästeführern durch die geschichtst
 rächtige Klosteranlage und erleben Sie weitere Facetten des Klosters Neuz
 elle. Jedes Wochenende finden verschiedene Sonderführungen durch das soge
 nannte Barockwunder Brandenburgs statt. Organisiert durch die Stiftung Sti
 ft Neuzelle in Kooperation mit örtlichen Institutionen.\n\nSonderführung
  Klostergelände: April - September\; Samstag und Sonntag um 14:30 Uhr\;Tr
 effpunkt: vor der Kloster-Information\, 5 Stationen nach Verfügbarkeit\, 
 kirchliche Termine haben Vorrang (Kreuzgang\, St. Marien\, Blick in den Kl
 ostergarten\, Pfarrkirche zum Heiligen Kreuz\, Museum Himmlisches Theater)
 \n\nDie Führungen sind nicht barrierefrei. Treffpunkt: Kloster-Informatio
 n. Gruppenführungen müssen separat vorab angemeldet werden. Parkplätze 
 kostenfrei begrenzt verfügbar.\n\nWeitere Sonderführungen sind von April
  bis September als gesonderte Einzeltermine buchbar:  \n>Themenführung Kl
 ostergarten: 2. Sonntag im Monat 15:00 Uhr (ca. 90 Min.)   \n> In und Auf 
 dem Weinberg: Juni-Setember letzter Sonntag im Monat 12:30 Uhr (ca. 90 Min
 .)\n\nKontakt:\n\nStiftung Stift Neuzelle\nStiftsplatz 7\n15898 Neuzelle\n
 Telefon: +49 33652 814 50\nEmail: service@stift-neuzelle.de\nWebseite: htt
 ps://www.klosterneuzelle.de/\n\nWeitere Informationen zur Veranstaltung: h
 ttp://www.reiseland-brandenburg.de/veranstaltung/seenland-oder-spree/gesam
 tfuehrung-ueber-das-neuzeller-klostergelaende-sonderfuehrung
CATEGORIES:Kinder und Jugendliche,Führung / Besichtigung
DTSTAMP:20260421T164639Z
END:VEVENT
BEGIN:VEVENT
UID:69e7a9eff1001
DTSTART:20260425T123000Z
SEQUENCE:0
TRANSP:OPAQUE
DTEND:20260425T143000Z
URL:http://www.reiseland-brandenburg.de/veranstaltung/seenland-oder-spree/g
 esamtfuehrung-ueber-das-neuzeller-klostergelaende-sonderfuehrung
LOCATION:Kloster Neuzelle\, Stiftsplatz 7\, 15898 Neuzelle
X-APPLE-STRUCTURED-LOCATION;VALUE=URI;X-ADDRESS="Kloster Neuzelle, Stiftspl
 atz 7, 15898 Neuzelle";X-APPLE-RADIUS=49;X-TITLE=Kloster Neuzelle:geo:14.6
 52664,52.091742
GEO:14.652664;52.091742
SUMMARY:Gesamtführung über das Neuzeller Klostergelände - Sonderführung
CLASS:PUBLIC
DESCRIPTION:Wandeln Sie mit erfahrenen Gästeführern durch die geschichtst
 rächtige Klosteranlage und erleben Sie weitere Facetten des Klosters Neuz
 elle. Jedes Wochenende finden verschiedene Sonderführungen durch das soge
 nannte Barockwunder Brandenburgs statt. Organisiert durch die Stiftung Sti
 ft Neuzelle in Kooperation mit örtlichen Institutionen.\n\nSonderführung
  Klostergelände: April - September\; Samstag und Sonntag um 14:30 Uhr\;Tr
 effpunkt: vor der Kloster-Information\, 5 Stationen nach Verfügbarkeit\, 
 kirchliche Termine haben Vorrang (Kreuzgang\, St. Marien\, Blick in den Kl
 ostergarten\, Pfarrkirche zum Heiligen Kreuz\, Museum Himmlisches Theater)
 \n\nDie Führungen sind nicht barrierefrei. Treffpunkt: Kloster-Informatio
 n. Gruppenführungen müssen separat vorab angemeldet werden. Parkplätze 
 kostenfrei begrenzt verfügbar.\n\nWeitere Sonderführungen sind von April
  bis September als gesonderte Einzeltermine buchbar:  \n>Themenführung Kl
 ostergarten: 2. Sonntag im Monat 15:00 Uhr (ca. 90 Min.)   \n> In und Auf 
 dem Weinberg: Juni-Setember letzter Sonntag im Monat 12:30 Uhr (ca. 90 Min
 .)\n\nKontakt:\n\nStiftung Stift Neuzelle\nStiftsplatz 7\n15898 Neuzelle\n
 Telefon: +49 33652 814 50\nEmail: service@stift-neuzelle.de\nWebseite: htt
 ps://www.klosterneuzelle.de/\n\nWeitere Informationen zur Veranstaltung: h
 ttp://www.reiseland-brandenburg.de/veranstaltung/seenland-oder-spree/gesam
 tfuehrung-ueber-das-neuzeller-klostergelaende-sonderfuehrung
CATEGORIES:Kinder und Jugendliche,Führung / Besichtigung
DTSTAMP:20260421T164639Z
END:VEVENT
END:VCALENDAR