BEGIN:VCALENDAR
VERSION:2.0
PRODID:www.reiseland-brandenburg.de
BEGIN:VEVENT
UID:69e794c8b3882
DTSTART:20260509T120000Z
SEQUENCE:0
TRANSP:OPAQUE
DTEND:20260509T163000Z
URL:http://www.reiseland-brandenburg.de/veranstaltung/ruppiner-seenland/sin
 gtag-maiengesang
LOCATION:Dorfkirche Klein-Mutz\, Alter Anger\, 16792 Zehdenick
X-APPLE-STRUCTURED-LOCATION;VALUE=URI;X-ADDRESS="Dorfkirche Klein-Mutz, Alt
 er Anger, 16792 Zehdenick";X-APPLE-RADIUS=49;X-TITLE=Dorfkirche Klein-Mutz
 :geo:13.284472,52.965886
GEO:13.284472;52.965886
SUMMARY:Singtag „Maiengesang“
CLASS:PUBLIC
DESCRIPTION:Das festliche Chorprojekt zur Wiederindienstnahm der Klein-Mutz
 er Kirche ist noch in guter Erinnerung. Eingeladen sind neben den Sängeri
 nnen und Sänger Chöre aus Zehdenick und Klein-Mutz auch Gäste\, die bis
 her wenig Zeit für regelmäßiges Chorsingen hatten oder einfach mal rein
 schnuppern möchten. Der Tag endet um 18:00 Uhr mit einem Werkstattkonzert
 \, in dem einige der eingeübten Stücke vorgestellt werden.\n\nKontakt:\n
 \nKirchengemeinde Zehdenick\nKathagenstraße  12\n16792 Zehdenick\nTelefon
 : +49 3307 2153\nEmail: buero@kirchengemeinde-zehdenick.de\n\nWeitere Info
 rmationen zur Veranstaltung: http://www.reiseland-brandenburg.de/veranstal
 tung/ruppiner-seenland/singtag-maiengesang
CATEGORIES:Workshop / Seminar,Chor / Folklore / Volksmusik
DTSTAMP:20260421T151624Z
END:VEVENT
END:VCALENDAR