BEGIN:VCALENDAR
VERSION:2.0
PRODID:www.reiseland-brandenburg.de
BEGIN:VEVENT
UID:69e5fe9eb5cea
DTSTART:20260619T143000Z
SEQUENCE:0
TRANSP:OPAQUE
DTEND:20260619T173000Z
URL:http://www.reiseland-brandenburg.de/veranstaltung/potsdam/drehort-potsd
 am
LOCATION:VHS Potsdam\, Am Kanal 47\, 14467 Potsdam
X-APPLE-STRUCTURED-LOCATION;VALUE=URI;X-ADDRESS="VHS Potsdam, Am Kanal 47, 
 14467 Potsdam";X-APPLE-RADIUS=49;X-TITLE=VHS Potsdam:geo:13.059019,52.3966
 32
GEO:13.059019;52.396632
SUMMARY:Drehort Potsdam
CLASS:PUBLIC
DESCRIPTION:**Vortrag mit Rundgang**\n\nPotsdam verfügt über viele Drehmo
 tive und hält daher immer wieder als Kulisse für Filme und Serien her. D
 reharbeiten finden im gesamten Stadtgebiet statt: in der Innenstadt und de
 n Ortsteilen\, in den Parkanlagen und Schlössern. Freuen Sie sich auf ein
 en interessanten Vortrag über vergangene und aktuelle Produktionen mit ei
 nem anschließenden Rundgang zu einigen Drehorten in der Stadt.\n\nKontakt
 :\n\nVHS Potsdam\nAm Kanal 47\n14467 Potsdam\nTelefon: \nEmail: \n\nWeiter
 e Informationen zur Veranstaltung: http://www.reiseland-brandenburg.de/ver
 anstaltung/potsdam/drehort-potsdam
CATEGORIES:Lesung / Vortrag,Führung / Besichtigung
DTSTAMP:20260420T102326Z
END:VEVENT
END:VCALENDAR