BEGIN:VCALENDAR
VERSION:2.0
PRODID:www.reiseland-brandenburg.de
BEGIN:VEVENT
UID:69e4e40af2d5f
DTSTART:20260602T183000Z
SEQUENCE:0
TRANSP:OPAQUE
DTEND:20260602T191500Z
URL:http://www.reiseland-brandenburg.de/veranstaltung/potsdam/potsdamer-tan
 ztage-2026-undercurrents
LOCATION:Französische Kirche\, Charlottenstraße 55-58\, 14467 Potsdam
X-APPLE-STRUCTURED-LOCATION;VALUE=URI;X-ADDRESS="Französische Kirche, Char
 lottenstraße 55-58, 14467 Potsdam";X-APPLE-RADIUS=49;X-TITLE=Französisch
 e Kirche:geo:13.062612,52.400551
GEO:13.062612;52.400551
SUMMARY:Potsdamer Tanztage 2026 – Undercurrents
CLASS:PUBLIC
DESCRIPTION:_Undercurrents_ ist eine choreografische Spurensuche nach dem\,
  was unter der Oberfläche wirkt: Erinnerung als leise Strömung\, als gee
 rbte Bewegung\, als eingeschriebene Geschichte im Körper. Vergangenheit u
 nd Gegenwart überlagern sich\, treten in Dialog\, widersprechen und stüt
 zen einander.\n\nZwei Tänzerinnen und ein Kontrabassist verleihen verlore
 nen\, verdrängten oder fragmentierten Erinnerungen eine physische Form. V
 ergrabene und vergessene Geschichten kommen langsam wieder zum Vorschein. 
 Bruchstücke ordnen sich neu. Was lange unausgesprochen blieb\, wird neu i
 n Bewegung übersetzt. Ein Stoff wird dabei zum verbindenden Element\, als
  Haut\, Grenze\, Schutz und Resonanzraum zugleich. Er erinnert an das\, wa
 s uns trennt\, und an das\, was uns trägt. So entsteht eine intime Brück
 e: ein Tanz über Erinnerung\, über Verbindung und Verwandlung\, über Id
 entität.\n\n_Undercurrents_ wurde vom SZIH und dem POLIN-Museum in Warsch
 au in Auftrag gegeben: eine Kreation\, die als Position auf die Ausstellun
 g _1945\\. Nicht das Ende\, nicht der Anfang_ entstand und im Sep 2025 im 
 Museum uraufgeführt wurde.\n\nAnschließend am Mi 03. Jun**:** **Publikum
 sgespräch**\n\nKontakt:\n\nfabrik Potsdam\nSchiffbauergasse 10\n14467 Pot
 sdam\nTelefon: +49 331 2800314\nEmail: contact@fabrikpotsdam.de\n\nWeitere
  Informationen zur Veranstaltung: http://www.reiseland-brandenburg.de/vera
 nstaltung/potsdam/potsdamer-tanztage-2026-undercurrents
CATEGORIES:Theater / Tanz / Kabarett
DTSTAMP:20260419T141747Z
END:VEVENT
BEGIN:VEVENT
UID:69e4e40b5f332
DTSTART:20260603T163000Z
SEQUENCE:0
TRANSP:OPAQUE
DTEND:20260603T171500Z
URL:http://www.reiseland-brandenburg.de/veranstaltung/potsdam/potsdamer-tan
 ztage-2026-undercurrents
LOCATION:Französische Kirche\, Charlottenstraße 55-58\, 14467 Potsdam
X-APPLE-STRUCTURED-LOCATION;VALUE=URI;X-ADDRESS="Französische Kirche, Char
 lottenstraße 55-58, 14467 Potsdam";X-APPLE-RADIUS=49;X-TITLE=Französisch
 e Kirche:geo:13.062612,52.400551
GEO:13.062612;52.400551
SUMMARY:Potsdamer Tanztage 2026 – Undercurrents
CLASS:PUBLIC
DESCRIPTION:_Undercurrents_ ist eine choreografische Spurensuche nach dem\,
  was unter der Oberfläche wirkt: Erinnerung als leise Strömung\, als gee
 rbte Bewegung\, als eingeschriebene Geschichte im Körper. Vergangenheit u
 nd Gegenwart überlagern sich\, treten in Dialog\, widersprechen und stüt
 zen einander.\n\nZwei Tänzerinnen und ein Kontrabassist verleihen verlore
 nen\, verdrängten oder fragmentierten Erinnerungen eine physische Form. V
 ergrabene und vergessene Geschichten kommen langsam wieder zum Vorschein. 
 Bruchstücke ordnen sich neu. Was lange unausgesprochen blieb\, wird neu i
 n Bewegung übersetzt. Ein Stoff wird dabei zum verbindenden Element\, als
  Haut\, Grenze\, Schutz und Resonanzraum zugleich. Er erinnert an das\, wa
 s uns trennt\, und an das\, was uns trägt. So entsteht eine intime Brück
 e: ein Tanz über Erinnerung\, über Verbindung und Verwandlung\, über Id
 entität.\n\n_Undercurrents_ wurde vom SZIH und dem POLIN-Museum in Warsch
 au in Auftrag gegeben: eine Kreation\, die als Position auf die Ausstellun
 g _1945\\. Nicht das Ende\, nicht der Anfang_ entstand und im Sep 2025 im 
 Museum uraufgeführt wurde.\n\nAnschließend am Mi 03. Jun**:** **Publikum
 sgespräch**\n\nKontakt:\n\nfabrik Potsdam\nSchiffbauergasse 10\n14467 Pot
 sdam\nTelefon: +49 331 2800314\nEmail: contact@fabrikpotsdam.de\n\nWeitere
  Informationen zur Veranstaltung: http://www.reiseland-brandenburg.de/vera
 nstaltung/potsdam/potsdamer-tanztage-2026-undercurrents
CATEGORIES:Theater / Tanz / Kabarett
DTSTAMP:20260419T141747Z
END:VEVENT
END:VCALENDAR