BEGIN:VCALENDAR
VERSION:2.0
PRODID:www.reiseland-brandenburg.de
BEGIN:VEVENT
UID:69e7fd94b5156
DTSTART:20260430T160000Z
SEQUENCE:0
TRANSP:OPAQUE
DTEND:20260430T220000Z
URL:http://www.reiseland-brandenburg.de/veranstaltung/uckermark/maifeuer-mi
 t-lampionumzug
LOCATION:Sportplatz Passow\, Sportplatzweg\, 16303 Schwedt/Oder
X-APPLE-STRUCTURED-LOCATION;VALUE=URI;X-ADDRESS="Sportplatz Passow, Sportpl
 atzweg, 16303 Schwedt/Oder";X-APPLE-RADIUS=49;X-TITLE=Sportplatz Passow:ge
 o:14.109754,53.143893
GEO:14.109754;53.143893
SUMMARY:Maifeuer mit Lampionumzug
CLASS:PUBLIC
DESCRIPTION:Der Passower Dorfverein lädt zum Lampionumzug zum Traditionsfe
 uer ein.\n\nKontakt:\n\nPassower Dorfverein e. V.\nPassower Mühlenberg 4\
 n16303 SchwedtOder\nTelefon: +49 1511 2781594\nEmail: kontakt@passower-dor
 fverein.de\nWebseite: https://passower-dorfverein.de/\n\nWeitere Informati
 onen zur Veranstaltung: http://www.reiseland-brandenburg.de/veranstaltung/
 uckermark/maifeuer-mit-lampionumzug
CATEGORIES:Fest / Brauchtum
DTSTAMP:20260421T224332Z
END:VEVENT
END:VCALENDAR