BEGIN:VCALENDAR
VERSION:2.0
PRODID:www.reiseland-brandenburg.de
BEGIN:VEVENT
UID:69e77b110af22
DTSTART:20260607T140000Z
SEQUENCE:0
TRANSP:OPAQUE
DTEND:20260607T153000Z
URL:http://www.reiseland-brandenburg.de/veranstaltung/ruppiner-seenland/kon
 zert-der-pinnower-lerchen
LOCATION:Dorfkirche Klein-Mutz\, Alter Anger\, 16792 Zehdenick
X-APPLE-STRUCTURED-LOCATION;VALUE=URI;X-ADDRESS="Dorfkirche Klein-Mutz, Alt
 er Anger, 16792 Zehdenick";X-APPLE-RADIUS=49;X-TITLE=Dorfkirche Klein-Mutz
 :geo:13.284472,52.965886
GEO:13.284472;52.965886
SUMMARY:Konzert der Pinnower Lerchen
CLASS:PUBLIC
DESCRIPTION:Das Gesangsensemble ausPinnow (bei Hohen Neuendorf/Borgsdorf) l
 ädt zum Konzert ein!\n\nKontakt:\n\nPinnower Lerchen\n\n \nTelefon: \nEma
 il: \n\nWeitere Informationen zur Veranstaltung: http://www.reiseland-bran
 denburg.de/veranstaltung/ruppiner-seenland/konzert-der-pinnower-lerchen
CATEGORIES:Chor / Folklore / Volksmusik
DTSTAMP:20260421T132641Z
END:VEVENT
END:VCALENDAR