BEGIN:VCALENDAR
VERSION:2.0
PRODID:www.reiseland-brandenburg.de
BEGIN:VEVENT
UID:69ed5dc6a736c
DTSTART:20260501T080000Z
SEQUENCE:0
TRANSP:OPAQUE
DTEND:20260501T160000Z
URL:http://www.reiseland-brandenburg.de/veranstaltung/seenland-oder-spree/a
 nbiken-und-live-musik-im-aldo-wendisch-rietz
LOCATION:Das Aldo\, Beeskower Chaussee 9\, 15864 Wendisch Rietz
X-APPLE-STRUCTURED-LOCATION;VALUE=URI;X-ADDRESS="Das Aldo, Beeskower Chauss
 ee 9, 15864 Wendisch Rietz";X-APPLE-RADIUS=49;X-TITLE=Das Aldo:geo:14.0089
 25,52.206304
GEO:14.008925;52.206304
SUMMARY:Anbiken und Live-Musik im Aldo Wendisch Rietz
CLASS:PUBLIC
DESCRIPTION:Mit der Band \"handmade\" 11 - 15 Uhr  \nFür Speisen und Getr
 änke ist gesorgt.\n\nKontakt:\n\nDas Aldo\nBeeskower Chaussee 9\n15864 We
 ndisch Rietz\nTelefon: +49 162 9246288\nEmail: \n\nWeitere Informationen z
 ur Veranstaltung: http://www.reiseland-brandenburg.de/veranstaltung/seenla
 nd-oder-spree/anbiken-und-live-musik-im-aldo-wendisch-rietz
CATEGORIES:Fest / Brauchtum
DTSTAMP:20260426T003518Z
END:VEVENT
END:VCALENDAR