BEGIN:VCALENDAR
VERSION:2.0
PRODID:www.reiseland-brandenburg.de
BEGIN:VEVENT
UID:69ea68838b79a
DTSTART:20261107T200000Z
SEQUENCE:0
TRANSP:OPAQUE
DTEND:20261107T220000Z
URL:http://www.reiseland-brandenburg.de/veranstaltung/seenland-oder-spree/o
 ldschool-party
LOCATION:Kreiskulturhaus Seelow\, Erich- Weinert -Straße  13\, 15306 Seelo
 w
X-APPLE-STRUCTURED-LOCATION;VALUE=URI;X-ADDRESS="Kreiskulturhaus Seelow, Er
 ich- Weinert -Straße  13, 15306 Seelow";X-APPLE-RADIUS=49;X-TITLE=Kreisku
 lturhaus Seelow:geo:14.385076,52.532772
GEO:14.385076;52.532772
SUMMARY:Oldschool - Party
CLASS:PUBLIC
DESCRIPTION:\n\nKontakt:\n\nKreiskulturhaus Seelow\nErich-Weinert-Strasse 1
 3\n15306 Seelow\nTelefon: +49 3346 802222\nEmail: kreiskulturhaus@seelow.d
 e\n\nWeitere Informationen zur Veranstaltung: http://www.reiseland-branden
 burg.de/veranstaltung/seenland-oder-spree/oldschool-party
DTSTAMP:20260423T184419Z
END:VEVENT
END:VCALENDAR