BEGIN:VCALENDAR
VERSION:2.0
PRODID:www.reiseland-brandenburg.de
BEGIN:VEVENT
UID:69e9f38ba9b4b
DTSTART:20260822T170000Z
SEQUENCE:0
TRANSP:OPAQUE
DTEND:20260822T220000Z
URL:http://www.reiseland-brandenburg.de/veranstaltung/seenland-oder-spree/i
 biza-beach-house-party
LOCATION:Freibad am Großen Müllroser See\, 15299 Müllrose
X-APPLE-STRUCTURED-LOCATION;VALUE=URI;X-ADDRESS="Freibad am Großen Müllro
 ser See, 15299 Müllrose";X-APPLE-RADIUS=49;X-TITLE=Freibad am Großen Mü
 llroser See:geo:14.422672,52.226943
GEO:14.422672;52.226943
SUMMARY:Ibiza-Beach-House Party
CLASS:PUBLIC
DESCRIPTION:Tanzparty mit Ibiza Feeling am Strand.\n\nKontakt:\n\nStrandimb
 iss Milan\nAm Ostufer 1\n15299 Müllrose\nTelefon: +49 157 78396366\nEmail
 : \n\nWeitere Informationen zur Veranstaltung: http://www.reiseland-brande
 nburg.de/veranstaltung/seenland-oder-spree/ibiza-beach-house-party
DTSTAMP:20260423T102515Z
END:VEVENT
END:VCALENDAR