BEGIN:VCALENDAR
VERSION:2.0
PRODID:www.reiseland-brandenburg.de
BEGIN:VEVENT
UID:69ea8c5513ecd
DTSTART:20270409T173000Z
SEQUENCE:0
TRANSP:OPAQUE
DTEND:20270409T193000Z
URL:http://www.reiseland-brandenburg.de/veranstaltung/uckermark/maddin-schn
 eider-schoene-sonndaach
LOCATION:Uckermärkische Bühnen Schwedt KLEINER SAAL\, Berliner Straße 46
 -48\, 16303 Schwedt/Oder
X-APPLE-STRUCTURED-LOCATION;VALUE=URI;X-ADDRESS="Uckermärkische Bühnen Sc
 hwedt KLEINER SAAL, Berliner Straße 46-48, 16303 Schwedt/Oder";X-APPLE-RA
 DIUS=49;X-TITLE=Uckermärkische Bühnen Schwedt KLEINER SAAL:geo:14.292602
 ,53.055836
GEO:14.292602;53.055836
SUMMARY:Maddin Schneider - Schöne Sonndaach
CLASS:PUBLIC
DESCRIPTION:**Ein Comedy-Menü\, das alle Sinne kitzelt: Maddin Schneider s
 erviert Lacher\, Songs und überraschende Pointen mit hessischer Würze.**
 \n\n  \nDas neue Programm des hessischen Comedian Maddin Schneider ist wie
  ein sonntägliches Überraschungs-Menue: Es enthält köstliche Comedy - 
 Leckerbissen in verschiedenen Variationen für jeden Geschmack! Maddin ser
 viert Gesprochenes\, Gelesenes und Gesungenes.  \nWie gewohnt zieht Maddin
  dabei alle mimischen Register\, wodurch Standups\, Texte aus seinen Büch
 ern oder hessische Swing Songs eine besondere Würze bekommen. Natürlich 
 ist es sein Hauptanliegen\, sein Publikum in Lachekstase zu bringen. Aber 
 auch manch tiefsinnige Botschaft oder Erkenntnis wird in locker-leichtem H
 essisch kredenzt.\n\nKontakt:\n\nUckermärkische Bühnen Schwedt KASSE\nVi
 erradener Str. 31\n16303 Schwedt/Oder (Uckermark)\nTelefon: +49 03332 5381
 11\nEmail: kasse@theater-schwedt.de\n\nWeitere Informationen zur Veranstal
 tung: http://www.reiseland-brandenburg.de/veranstaltung/uckermark/maddin-s
 chneider-schoene-sonndaach
CATEGORIES:Theater / Tanz / Kabarett
DTSTAMP:20260423T211709Z
END:VEVENT
END:VCALENDAR