BEGIN:VCALENDAR
VERSION:2.0
PRODID:www.reiseland-brandenburg.de
BEGIN:VEVENT
UID:69e7cfa2824ef
DTSTART:20260530T170000Z
SEQUENCE:0
TRANSP:OPAQUE
DTEND:20260530T191500Z
URL:http://www.reiseland-brandenburg.de/veranstaltung/seenland-oder-spree/s
 erenade-am-see
LOCATION:Freibad Müllrose\, Am Ostufer  1\, 15299 Müllrose
X-APPLE-STRUCTURED-LOCATION;VALUE=URI;X-ADDRESS="Freibad Müllrose, Am Ostu
 fer  1, 15299 Müllrose";X-APPLE-RADIUS=49;X-TITLE=Freibad Müllrose:geo:1
 4.423164,52.233136
GEO:14.423164;52.233136
SUMMARY:Serenade am See
CLASS:PUBLIC
DESCRIPTION:Auf einer kleinen Seebühne am Ostufer des Großen Müllroser S
 ees präsentieren die Damen von BrassAppeal erstklassige Blechblasmusik. D
 ie Zuhörer können sich in der idyllischen Atmosphäre auf ein beschwingt
  sommerliches Konzert freuen.\n\nKontakt:\n\nSchlaubetal-Information\nKiet
 z 7\n15299 Müllrose\nTelefon: +49 033606 77290\nEmail: service@hausdesgas
 tes-muellrose.de\nWebseite: https://www.muellrose.de\n\nWeitere Informatio
 nen zur Veranstaltung: http://www.reiseland-brandenburg.de/veranstaltung/s
 eenland-oder-spree/serenade-am-see
CATEGORIES:Rock / Pop / Jazz
DTSTAMP:20260421T192730Z
END:VEVENT
END:VCALENDAR