BEGIN:VCALENDAR
VERSION:2.0
PRODID:www.reiseland-brandenburg.de
BEGIN:VEVENT
UID:69e7c18845270
DTSTART:20260606T110000Z
SEQUENCE:0
TRANSP:OPAQUE
DTEND:20260606T120000Z
URL:http://www.reiseland-brandenburg.de/veranstaltung/ruppiner-seenland/kre
 ativ-in-schloss-und-park-blumenspiele
LOCATION:Schloss Rheinsberg\, Schloss Rheinsberg 2\, 16831 Rheinsberg
X-APPLE-STRUCTURED-LOCATION;VALUE=URI;X-ADDRESS="Schloss Rheinsberg, Schlos
 s Rheinsberg 2, 16831 Rheinsberg";X-APPLE-RADIUS=49;X-TITLE=Schloss Rheins
 berg:geo:12.889908,53.098395
GEO:12.889908;53.098395
SUMMARY:Kreativ in Schloss und Park: Blumenspiele
CLASS:PUBLIC
DESCRIPTION:Kreativworkshop für Kinder ab 5 Jahren\n\nDie Blumenkörbe auf
  der Schlossinsel präsentieren sich jedes Jahr in neuer bunter Pracht! Wi
 r laden zu einem Spaziergang in den Schlossgarten ein und entdecken die bu
 nten Blumen des Gartens\, um diese anschließend in der Schlossgärtnerei 
 selbst in Kübel zu pflanzen.\n\nBitte beachten Sie\, dass pro Kind nur ei
 n Erwachsener teilnehmen kann.\n\nKontakt:\n\nSchloss Rheinsberg\nSchloss 
 2\n16831 Rheinsberg\nTelefon: +49 33931 7260\nEmail: schloss-rheinsberg@sp
 sg.de\nWebseite: https://www.spsg.de/schloesser-gaerten/objekt/schloss-rhe
 insberg\n\nWeitere Informationen zur Veranstaltung: http://www.reiseland-b
 randenburg.de/veranstaltung/ruppiner-seenland/kreativ-in-schloss-und-park-
 blumenspiele
CATEGORIES:Kinder und Jugendliche,Workshop / Seminar
DTSTAMP:20260421T182720Z
END:VEVENT
BEGIN:VEVENT
UID:69e7c18847204
DTSTART:20260606T133000Z
SEQUENCE:0
TRANSP:OPAQUE
DTEND:20260606T143000Z
URL:http://www.reiseland-brandenburg.de/veranstaltung/ruppiner-seenland/kre
 ativ-in-schloss-und-park-blumenspiele
LOCATION:Schloss Rheinsberg\, Schloss Rheinsberg 2\, 16831 Rheinsberg
X-APPLE-STRUCTURED-LOCATION;VALUE=URI;X-ADDRESS="Schloss Rheinsberg, Schlos
 s Rheinsberg 2, 16831 Rheinsberg";X-APPLE-RADIUS=49;X-TITLE=Schloss Rheins
 berg:geo:12.889908,53.098395
GEO:12.889908;53.098395
SUMMARY:Kreativ in Schloss und Park: Blumenspiele
CLASS:PUBLIC
DESCRIPTION:Kreativworkshop für Kinder ab 5 Jahren\n\nDie Blumenkörbe auf
  der Schlossinsel präsentieren sich jedes Jahr in neuer bunter Pracht! Wi
 r laden zu einem Spaziergang in den Schlossgarten ein und entdecken die bu
 nten Blumen des Gartens\, um diese anschließend in der Schlossgärtnerei 
 selbst in Kübel zu pflanzen.\n\nBitte beachten Sie\, dass pro Kind nur ei
 n Erwachsener teilnehmen kann.\n\nKontakt:\n\nSchloss Rheinsberg\nSchloss 
 2\n16831 Rheinsberg\nTelefon: +49 33931 7260\nEmail: schloss-rheinsberg@sp
 sg.de\nWebseite: https://www.spsg.de/schloesser-gaerten/objekt/schloss-rhe
 insberg\n\nWeitere Informationen zur Veranstaltung: http://www.reiseland-b
 randenburg.de/veranstaltung/ruppiner-seenland/kreativ-in-schloss-und-park-
 blumenspiele
CATEGORIES:Kinder und Jugendliche,Workshop / Seminar
DTSTAMP:20260421T182720Z
END:VEVENT
END:VCALENDAR