BEGIN:VCALENDAR
VERSION:2.0
PRODID:www.reiseland-brandenburg.de
BEGIN:VEVENT
UID:69e7cf643f5b6
DTSTART:20260621T080000Z
SEQUENCE:0
TRANSP:OPAQUE
DTEND:20260621T130000Z
URL:http://www.reiseland-brandenburg.de/veranstaltung/seenland-oder-spree/n
 eptunfest-und-1-kroetentroedel-mit-gehegeoeffnung
LOCATION:Kleine Turnhalle Grünheide (Mark)\, An der Löcknitz 9\, 15537 Gr
 ünheide (Mark)
X-APPLE-STRUCTURED-LOCATION;VALUE=URI;X-ADDRESS="Kleine Turnhalle Grünheid
 e (Mark), An der Löcknitz 9, 15537 Grünheide (Mark)";X-APPLE-RADIUS=49;X
 -TITLE=Kleine Turnhalle Grünheide (Mark):geo:13.824803,52.415195
GEO:13.824803;52.415195
SUMMARY:Neptunfest & 1. Krötentrödel mit Gehegeöffnung
CLASS:PUBLIC
DESCRIPTION:Neptunfest 11 - 14 Uhr\n\nDer Herr der Meere lädt Euch liebe K
 inder zu Spiel und Spaß an tollen Stationen ein. \n\nDer Eintritt ist fre
 i\, Speisen und Getränke vor Ort - und alle sind herzlich Willkommen! \n\
 nSektion Handball - Grünheider SV\n\n1\\. Krötentrödel mit Gehegeöffnu
 ng 10-15 Uhr\n\nRund 30 Trödelstände warten auf Schnäppchenbegeisterte.
  \n\nGleichzeitig können im geöffneten Gehege die Schildkröten besucht 
 werden.\n\nKontakt:\n\nEltern-Kind-Zentrum Grünheide (Mark)\nAn der Löck
 nitz 8\n15537 Grünheide (Mark)\nTelefon: +49 03362 8860480\nEmail: EKZ@ge
 meinde-gruenheide.de\n\nWeitere Informationen zur Veranstaltung: http://ww
 w.reiseland-brandenburg.de/veranstaltung/seenland-oder-spree/neptunfest-un
 d-1-kroetentroedel-mit-gehegeoeffnung
CATEGORIES:Markt
DTSTAMP:20260421T192628Z
END:VEVENT
END:VCALENDAR