BEGIN:VCALENDAR
VERSION:2.0
PRODID:www.reiseland-brandenburg.de
BEGIN:VEVENT
UID:69ea6a6dbdcc6
DTSTART:20260613T140000Z
SEQUENCE:0
TRANSP:OPAQUE
DTEND:20260613T160000Z
URL:http://www.reiseland-brandenburg.de/veranstaltung/uckermark/schneewittc
 hen-ein-krimimaerchen
LOCATION:Kulturkirche Landin\, Schlossstraße 12\, 16303 Schwedt/Oder
X-APPLE-STRUCTURED-LOCATION;VALUE=URI;X-ADDRESS="Kulturkirche Landin, Schlo
 ssstraße 12, 16303 Schwedt/Oder";X-APPLE-RADIUS=49;X-TITLE=Kulturkirche L
 andin:geo:14.296330,53.098820
GEO:14.296330;53.098820
SUMMARY:Schneewittchen – ein Krimimärchen
CLASS:PUBLIC
DESCRIPTION:Premiere des neuen Theaterstückes für Kleine und Große in de
 r Kulturkirche Landin. Die Kindergruppe des Schlosstheaters Landin spielt 
 das Märchen in einer regional angepassten und modernen Version. Viel Spa
 ß ist garantiert!\n\nKontakt:\n\nSchlosstheater Landin e. V.\nSeeweg 9\n1
 6303 Schwedt/Oder\nTelefon: +49 33335 303437\nEmail: schlosstheater-landin
 @posteo.de\nWebseite: https://landkulturtage.com/\n\nWeitere Informationen
  zur Veranstaltung: http://www.reiseland-brandenburg.de/veranstaltung/ucke
 rmark/schneewittchen-ein-krimimaerchen
CATEGORIES:Theater / Tanz / Kabarett
DTSTAMP:20260423T185230Z
END:VEVENT
BEGIN:VEVENT
UID:69ea6a6df2148
DTSTART:20260523T140000Z
SEQUENCE:0
TRANSP:OPAQUE
DTEND:20260523T160000Z
URL:http://www.reiseland-brandenburg.de/veranstaltung/uckermark/schneewittc
 hen-ein-krimimaerchen
LOCATION:Kulturkirche Landin\, Schlossstraße 12\, 16303 Schwedt/Oder
X-APPLE-STRUCTURED-LOCATION;VALUE=URI;X-ADDRESS="Kulturkirche Landin, Schlo
 ssstraße 12, 16303 Schwedt/Oder";X-APPLE-RADIUS=49;X-TITLE=Kulturkirche L
 andin:geo:14.296330,53.098820
GEO:14.296330;53.098820
SUMMARY:Schneewittchen – ein Krimimärchen
CLASS:PUBLIC
DESCRIPTION:Premiere des neuen Theaterstückes für Kleine und Große in de
 r Kulturkirche Landin. Die Kindergruppe des Schlosstheaters Landin spielt 
 das Märchen in einer regional angepassten und modernen Version. Viel Spa
 ß ist garantiert!\n\nKontakt:\n\nSchlosstheater Landin e. V.\nSeeweg 9\n1
 6303 Schwedt/Oder\nTelefon: +49 33335 303437\nEmail: schlosstheater-landin
 @posteo.de\nWebseite: https://landkulturtage.com/\n\nWeitere Informationen
  zur Veranstaltung: http://www.reiseland-brandenburg.de/veranstaltung/ucke
 rmark/schneewittchen-ein-krimimaerchen
CATEGORIES:Theater / Tanz / Kabarett
DTSTAMP:20260423T185230Z
END:VEVENT
END:VCALENDAR