BEGIN:VCALENDAR
VERSION:2.0
PRODID:www.reiseland-brandenburg.de
BEGIN:VEVENT
UID:69e80b9285f44
DTSTART:20260621T080000Z
SEQUENCE:0
TRANSP:OPAQUE
DTEND:20260621T130000Z
URL:http://www.reiseland-brandenburg.de/veranstaltung/barnimer-land/sonntag
 stouren-in-die-schorfheide-gefuehrte-tour-eiszeitpfade-von-althuettendorf-
 nach-gross-ziethen
LOCATION:Bahnhof Althüttendorf\, Bahnhofstraße\, 16247 Althüttendorf
X-APPLE-STRUCTURED-LOCATION;VALUE=URI;X-ADDRESS="Bahnhof Althüttendorf, Ba
 hnhofstraße, 16247 Althüttendorf";X-APPLE-RADIUS=49;X-TITLE=Bahnhof Alth
 üttendorf:geo:13.797070,52.959091
GEO:13.797070;52.959091
SUMMARY:Sonntagstouren in die Schorfheide- Geführte Tour - Eiszeitpfade: V
 on Althüttendorf nach Groß-Ziethen
CLASS:PUBLIC
DESCRIPTION:In Althüttendorf läßt man den Blick über den malerischen Gr
 imnitzsee schweifen.In mitten des Ortes gibt es drei geheimnisvollen Fraue
 n\, die seit  \nUrzeiten das Schicksal der Welt weben - die Nornen. An den
  Ihlowbergen erlebt man\, welche gigantischen Kräfte einst diese Landscha
 ft schufen. Und welche Kräfte die wackeren Steinschläger aufbrachten\, u
 m aus den Findlingen die Kirchen\, Häuser und Straßen unserer Region zu 
 erschaffen.  \nDas Eiszeitmuseum lädt mit Mammut und Säbelzahntiger zum 
 Staunen und Lernen in die Eiszeit ein. Und von Groß-Ziethen geht es dann 
 per Bus zurück nach Althüttendorf.\n\n  \nDauer: ca. 4\,5 – 5 Stunden 
 (11 km)  \nTreffpunkt: 10 Uhr am Bahnhof Althüttendorf (Parkplatz vorhand
 en)\, Anreise mit RB 63 möglich  \nRückfahrt ab Groß-Ziethen: Bus 920 n
 ach Althüttendorf.\n\n \n\nAnmeldung in der Schorfheide-Info Joachimsthal
  bis Samstag 12.00 Uhr vor der Wanderung telefonisch oder per Mail.\n\nKon
 takt:\n\nSchorfheide-Info in Joachimsthal\nTöpferstraße 1\n16247 Joachim
 sthal\nTelefon: +49 33361 64646\nEmail: br-joachimsthal@web.de\n\nWeitere 
 Informationen zur Veranstaltung: http://www.reiseland-brandenburg.de/veran
 staltung/barnimer-land/sonntagstouren-in-die-schorfheide-gefuehrte-tour-ei
 szeitpfade-von-althuettendorf-nach-gross-ziethen
CATEGORIES:Exkursion / Wanderung
DTSTAMP:20260421T234314Z
END:VEVENT
END:VCALENDAR