BEGIN:VCALENDAR
VERSION:2.0
PRODID:www.reiseland-brandenburg.de
BEGIN:VEVENT
UID:69ea9099b8fc2
DTSTART:20260822T150000Z
SEQUENCE:0
TRANSP:OPAQUE
DTEND:20260822T160000Z
URL:http://www.reiseland-brandenburg.de/veranstaltung/uckermark/orchesterko
 nzert-dorfkirche-heinersdorf
LOCATION:Dorfkirche Heinersdorf\, Lange Straße 45\, 16303 Schwedt/Oder
X-APPLE-STRUCTURED-LOCATION;VALUE=URI;X-ADDRESS="Dorfkirche Heinersdorf, La
 nge Straße 45, 16303 Schwedt/Oder";X-APPLE-RADIUS=49;X-TITLE=Dorfkirche H
 einersdorf:geo:14.201557,53.089045
GEO:14.201557;53.089045
SUMMARY:Orchesterkonzert - Dorfkirche Heinersdorf
CLASS:PUBLIC
DESCRIPTION:\n\nKontakt:\n\nEvangelische Kirchengemeinde St. Katharinen Sch
 wedt\nOderstraße 18\n16303 Schwedt\nTelefon: +49 3332 22083\nEmail: evpfa
 rramt@swschwedt.de\n\nWeitere Informationen zur Veranstaltung: http://www.
 reiseland-brandenburg.de/veranstaltung/uckermark/orchesterkonzert-dorfkirc
 he-heinersdorf
CATEGORIES:Klassisches Konzert / Oper,Kinder und Jugendliche
DTSTAMP:20260423T213522Z
END:VEVENT
END:VCALENDAR