BEGIN:VCALENDAR
VERSION:2.0
PRODID:www.reiseland-brandenburg.de
BEGIN:VEVENT
UID:69ea6ad194601
DTSTART:20260613T120000Z
SEQUENCE:0
TRANSP:OPAQUE
DTEND:20260613T150000Z
URL:http://www.reiseland-brandenburg.de/veranstaltung/uckermark/tag-der-off
 enen-gaerten-tabakmuseum
LOCATION:Tabakmuseum Vierraden\, Breite Straße 14\, 16303 Schwedt/Oder
X-APPLE-STRUCTURED-LOCATION;VALUE=URI;X-ADDRESS="Tabakmuseum Vierraden, Bre
 ite Straße 14, 16303 Schwedt/Oder";X-APPLE-RADIUS=49;X-TITLE=Tabakmuseum 
 Vierraden:geo:14.292954,53.095511
GEO:14.292954;53.095511
SUMMARY:Tag der offenen Gärten: Tabakmuseum
CLASS:PUBLIC
DESCRIPTION:Unsere große Außenanlage mit alten landwirtschaftlichen Gerä
 ten\, Maschinen und Schaubeeten lädt zum Verweilen ein. In einer denkmalg
 eschützten ehemaligen Tabaktrockenscheune werden die Kulturgeschichte des
  Tabakanbaus\, die regionalen Bedingungen und Traditionen in der Oder-Rand
 ow Region\, der Tabakhandel und die Verarbeitung vorgestellt. Medienstatio
 nen\, 3D Rundgang\, LernApps und Audioführer ergänzen das Erlebnis.\n\nK
 ontakt:\n\nTabakmuseum Vierraden\nBreite Straße 14\n16303 Schwedt/Oder\nT
 elefon: +49 3332 250991\nEmail: \nWebseite: https://www.schwedt.eu/tabakmu
 seum/\n\nWeitere Informationen zur Veranstaltung: http://www.reiseland-bra
 ndenburg.de/veranstaltung/uckermark/tag-der-offenen-gaerten-tabakmuseum
CATEGORIES:Ausstellung
DTSTAMP:20260423T185410Z
END:VEVENT
BEGIN:VEVENT
UID:69ea6ad21375f
DTSTART:20260614T120000Z
SEQUENCE:0
TRANSP:OPAQUE
DTEND:20260614T150000Z
URL:http://www.reiseland-brandenburg.de/veranstaltung/uckermark/tag-der-off
 enen-gaerten-tabakmuseum
LOCATION:Tabakmuseum Vierraden\, Breite Straße 14\, 16303 Schwedt/Oder
X-APPLE-STRUCTURED-LOCATION;VALUE=URI;X-ADDRESS="Tabakmuseum Vierraden, Bre
 ite Straße 14, 16303 Schwedt/Oder";X-APPLE-RADIUS=49;X-TITLE=Tabakmuseum 
 Vierraden:geo:14.292954,53.095511
GEO:14.292954;53.095511
SUMMARY:Tag der offenen Gärten: Tabakmuseum
CLASS:PUBLIC
DESCRIPTION:Unsere große Außenanlage mit alten landwirtschaftlichen Gerä
 ten\, Maschinen und Schaubeeten lädt zum Verweilen ein. In einer denkmalg
 eschützten ehemaligen Tabaktrockenscheune werden die Kulturgeschichte des
  Tabakanbaus\, die regionalen Bedingungen und Traditionen in der Oder-Rand
 ow Region\, der Tabakhandel und die Verarbeitung vorgestellt. Medienstatio
 nen\, 3D Rundgang\, LernApps und Audioführer ergänzen das Erlebnis.\n\nK
 ontakt:\n\nTabakmuseum Vierraden\nBreite Straße 14\n16303 Schwedt/Oder\nT
 elefon: +49 3332 250991\nEmail: \nWebseite: https://www.schwedt.eu/tabakmu
 seum/\n\nWeitere Informationen zur Veranstaltung: http://www.reiseland-bra
 ndenburg.de/veranstaltung/uckermark/tag-der-offenen-gaerten-tabakmuseum
CATEGORIES:Ausstellung
DTSTAMP:20260423T185410Z
END:VEVENT
END:VCALENDAR