BEGIN:VCALENDAR
VERSION:2.0
PRODID:www.reiseland-brandenburg.de
BEGIN:VEVENT
UID:69ea0ae6aacf4
DTSTART:20260606T130000Z
SEQUENCE:0
TRANSP:OPAQUE
DTEND:20260606T163000Z
URL:http://www.reiseland-brandenburg.de/veranstaltung/spreewald/kinderfest
LOCATION:Bei Paule am Dorfteich - Wußwerk\, Wusswerker Dorfstr.\, 15913 Al
 t Zauche-Wußwerk
X-APPLE-STRUCTURED-LOCATION;VALUE=URI;X-ADDRESS="Bei Paule am Dorfteich - W
 ußwerk, Wusswerker Dorfstr., 15913 Alt Zauche-Wußwerk";X-APPLE-RADIUS=49
 ;X-TITLE=Bei Paule am Dorfteich - Wußwerk:geo:14.047602,51.929164
GEO:14.047602;51.929164
SUMMARY:Kinderfest
CLASS:PUBLIC
DESCRIPTION:Spiel und Spaß\, leckeres zum Essen und zum Trinken für alle 
 kleinen und großen Kinder.\n\nKommt alle zum Spielplatz in der Nähe des 
 Dorfteiches !\n\nKontakt:\n\nWußwerker Freunde e.V.\n\n \nTelefon: +49 01
 63 7333070\nEmail: wusswerker.freunde@web.de\n\nWeitere Informationen zur 
 Veranstaltung: http://www.reiseland-brandenburg.de/veranstaltung/spreewald
 /kinderfest
CATEGORIES:Fest / Brauchtum,Kinder und Jugendliche
DTSTAMP:20260423T120454Z
END:VEVENT
END:VCALENDAR