BEGIN:VCALENDAR
VERSION:2.0
PRODID:www.reiseland-brandenburg.de
BEGIN:VEVENT
UID:69eb699be3dfe
DTSTART:20260906T110000Z
SEQUENCE:0
TRANSP:OPAQUE
DTEND:20260906T140000Z
URL:http://www.reiseland-brandenburg.de/veranstaltung/flaeming/tomatenfesti
 val
LOCATION:Naturparkzentrum Hoher Fläming in der \"Alten Brennerei\" Raben\,
  Brennereiweg 45\, 14823 Rabenstein/Fläming
X-APPLE-STRUCTURED-LOCATION;VALUE=URI;X-ADDRESS="Naturparkzentrum Hoher Fl
 äming in der \"Alten Brennerei\" Raben, Brennereiweg 45, 14823 Rabenstein
 /Fläming";X-APPLE-RADIUS=49;X-TITLE="Naturparkzentrum Hoher Fläming in d
 er \"Alten Brennerei\" Raben":geo:12.577955,52.041483
GEO:12.577955;52.041483
SUMMARY:Tomatenfestival
CLASS:PUBLIC
DESCRIPTION:Die bunte Vielfalt der Tomaten kann in einer Tomatenausstellung
  mit seltenen\, alten Sorten erlebt werden. Es gibt es mindestens eine Sor
 te je Buchstabe des Alphabets: Von A wie Alter Kommunist bis Z wie Zwergen
 wunder.\n\nDazu gibt es Infos zu Sorten\, Ernte & Verwendung und im „Tom
 atengarten“ hinter dem Haus können einige der Sorten live\, in echt und
  in Farbe bewundert werden.\n\nDas passende Saatgut der neuen Lieblingssor
 te kann vor Ort erworben werden.\n\nKontakt:\n\nNaturparkzentrum Hoher Fl
 äming\nBrennereiweg 45\n14823 Rabenstein/Fläming\nTelefon: +49 33848 600
 04\nEmail: info@flaeming.net\n\nWeitere Informationen zur Veranstaltung: h
 ttp://www.reiseland-brandenburg.de/veranstaltung/flaeming/tomatenfestival
CATEGORIES:Führung / Besichtigung
DTSTAMP:20260424T130115Z
END:VEVENT
END:VCALENDAR