BEGIN:VCALENDAR
VERSION:2.0
PRODID:www.reiseland-brandenburg.de
BEGIN:VEVENT
UID:69e7aaffdb058
DTSTART:20260726T130000Z
SEQUENCE:0
TRANSP:OPAQUE
DTEND:20260726T140000Z
URL:http://www.reiseland-brandenburg.de/veranstaltung/lausitzer-seenland/tr
 aumreise-an-bord-der-santa-barbara-aller-guten-dinge-sind-drei-live-michae
 l-hirte
LOCATION:Fahrgastschiff Santa Barbara\, Senftenberger Straße  3b\, 01968 S
 enftenberg
X-APPLE-STRUCTURED-LOCATION;VALUE=URI;X-ADDRESS="Fahrgastschiff Santa Barba
 ra, Senftenberger Straße  3b, 01968 Senftenberg";X-APPLE-RADIUS=49;X-TITL
 E=Fahrgastschiff Santa Barbara:geo:14.055974,51.497094
GEO:14.055974;51.497094
SUMMARY:Traumreise an Bord\, der Santa Barbara - Aller Guten Dinge sind Dre
 i Live Michael Hirte
CLASS:PUBLIC
DESCRIPTION:Live an Bord der Santa Barbara\, zum Dritten Mal\, Michael Hirt
 e\, der Mann mit der Mundharmonika\n\nauf zwei Touren mit Kaffee & Kuchen\
 n\nKontakt:\n\nReederei M. Löwa GmbH\nSenftenberger Str.  3b\n01968 Senft
 enberg\nTelefon: \nEmail: \n\nWeitere Informationen zur Veranstaltung: htt
 p://www.reiseland-brandenburg.de/veranstaltung/lausitzer-seenland/traumrei
 se-an-bord-der-santa-barbara-aller-guten-dinge-sind-drei-live-michael-hirt
 e
CATEGORIES:Chor / Folklore / Volksmusik,Klassisches Konzert / Oper,Rock / P
 op / Jazz,Rund ums Wasser
DTSTAMP:20260421T165111Z
END:VEVENT
BEGIN:VEVENT
UID:69e7aaffdcbeb
DTSTART:20260726T143000Z
SEQUENCE:0
TRANSP:OPAQUE
DTEND:20260726T153000Z
URL:http://www.reiseland-brandenburg.de/veranstaltung/lausitzer-seenland/tr
 aumreise-an-bord-der-santa-barbara-aller-guten-dinge-sind-drei-live-michae
 l-hirte
LOCATION:Fahrgastschiff Santa Barbara\, Senftenberger Straße  3b\, 01968 S
 enftenberg
X-APPLE-STRUCTURED-LOCATION;VALUE=URI;X-ADDRESS="Fahrgastschiff Santa Barba
 ra, Senftenberger Straße  3b, 01968 Senftenberg";X-APPLE-RADIUS=49;X-TITL
 E=Fahrgastschiff Santa Barbara:geo:14.055974,51.497094
GEO:14.055974;51.497094
SUMMARY:Traumreise an Bord\, der Santa Barbara - Aller Guten Dinge sind Dre
 i Live Michael Hirte
CLASS:PUBLIC
DESCRIPTION:Live an Bord der Santa Barbara\, zum Dritten Mal\, Michael Hirt
 e\, der Mann mit der Mundharmonika\n\nauf zwei Touren mit Kaffee & Kuchen\
 n\nKontakt:\n\nReederei M. Löwa GmbH\nSenftenberger Str.  3b\n01968 Senft
 enberg\nTelefon: \nEmail: \n\nWeitere Informationen zur Veranstaltung: htt
 p://www.reiseland-brandenburg.de/veranstaltung/lausitzer-seenland/traumrei
 se-an-bord-der-santa-barbara-aller-guten-dinge-sind-drei-live-michael-hirt
 e
CATEGORIES:Chor / Folklore / Volksmusik,Klassisches Konzert / Oper,Rock / P
 op / Jazz,Rund ums Wasser
DTSTAMP:20260421T165111Z
END:VEVENT
END:VCALENDAR