BEGIN:VCALENDAR
VERSION:2.0
PRODID:www.reiseland-brandenburg.de
BEGIN:VEVENT
UID:69e7b6ba07495
DTSTART:20260502T090000Z
SEQUENCE:0
TRANSP:OPAQUE
DTEND:20260502T150000Z
URL:http://www.reiseland-brandenburg.de/veranstaltung/lausitzer-seenland/wo
 rld-labyrinth-day
LOCATION:\"Ich schreibe!\" e.V. mit MARGA-Atelier\, Im Margahof  3\, 01968 
 Senftenberg
X-APPLE-STRUCTURED-LOCATION;VALUE=URI;X-ADDRESS="\"Ich schreibe!\" e.V. mit
  MARGA-Atelier, Im Margahof  3, 01968 Senftenberg";X-APPLE-RADIUS=49;X-TIT
 LE="\"Ich schreibe!\" e.V. mit MARGA-Atelier":geo:13.973132,51.507111
GEO:13.973132;51.507111
SUMMARY:World Labyrinth Day
CLASS:PUBLIC
DESCRIPTION:World Labyrinth Day - gemeinsamer Gang durch das temporäre San
 dlabyrinth vor der Martin-Luther-Kirche Brieske  \nWeltweit wird am ersten
  Samstag des Monats Mai der World Labyrinth Day begangen. Die LandArt-Kün
 stlerin Yana Arlt gestaltet vor der Kirche Brieske ein begehbares Labyrint
 h aus Sand. Der gemeinsame Gang durch das Labyrinth um 13 Uhr findet unter
  dem Motto \"Walk as One at 1\" statt. Mit dieser Aktionen soll eine \"Wel
 le der friedvollen Energie\" rund um die Erde gehen.\n\nKontakt:\n\n\"Ich 
 schreibe!\" e.V.\nIm Margahof  3\n01968 Senftenberg\nTelefon: +49 03573-14
 7 663\nEmail: nlz-ich-schreibe@gmx.de\n\nWeitere Informationen zur Veranst
 altung: http://www.reiseland-brandenburg.de/veranstaltung/lausitzer-seenla
 nd/world-labyrinth-day
CATEGORIES:Workshop / Seminar
DTSTAMP:20260421T174114Z
END:VEVENT
END:VCALENDAR