BEGIN:VCALENDAR
VERSION:2.0
PRODID:www.reiseland-brandenburg.de
BEGIN:VEVENT
UID:69e669aa610c1
DTSTART:20260618T140000Z
SEQUENCE:0
TRANSP:OPAQUE
DTEND:20260618T153000Z
URL:http://www.reiseland-brandenburg.de/veranstaltung/lausitzer-seenland/se
 nftenberg-kartographiert-von-1592-bis-heute
LOCATION:Wendische Kirche\, Kleiner Saal\, Baderstraße  10\,  
X-APPLE-STRUCTURED-LOCATION;VALUE=URI;X-ADDRESS="Wendische Kirche, Kleiner 
 Saal, Baderstraße  10,  ";X-APPLE-RADIUS=49;X-TITLE="Wendische Kirche, Kl
 einer Saal":geo:14.004661,51.518813
GEO:14.004661;51.518813
SUMMARY:Senftenberg kartographiert von 1592 bis heute
CLASS:PUBLIC
DESCRIPTION:Karten zeigen den festgehaltenen Ist-Zustand ihrer Zeit und gen
 au das macht sie so faszinierend. Gregor Messenbrink lädt zu einer spanne
 nden Reise durch fünf Jahrhunderte Stadtgeschichte ein. Zu entdecken sind
  verborgene Details\, überraschende Entwicklungen und die oft geheime Wel
 t der Kartografie rund um Senftenberg.\n\nKontakt:\n\nHans Peter Rößiger
 \nGrünstraße  5\n \nTelefon: +49 0172 6806 298\nEmail: hpr.sfb@web.de\n\
 nWeitere Informationen zur Veranstaltung: http://www.reiseland-brandenburg
 .de/veranstaltung/lausitzer-seenland/senftenberg-kartographiert-von-1592-b
 is-heute
CATEGORIES:Lesung / Vortrag
DTSTAMP:20260420T180010Z
END:VEVENT
END:VCALENDAR