BEGIN:VCALENDAR
VERSION:2.0
PRODID:www.reiseland-brandenburg.de
BEGIN:VEVENT
UID:69ea0393e3d5c
DTSTART:20260508T170000Z
SEQUENCE:0
TRANSP:OPAQUE
DTEND:20260508T183000Z
URL:http://www.reiseland-brandenburg.de/veranstaltung/potsdam/lesung-und-ge
 spraech-mit-kristof-magnusson-die-reise-ans-ende-der-geschichte
LOCATION:Stadt- und Landesbibliothek Potsdam\, Am Kanal 47\, 14467 Potsdam
X-APPLE-STRUCTURED-LOCATION;VALUE=URI;X-ADDRESS="Stadt- und Landesbibliothe
 k Potsdam, Am Kanal 47, 14467 Potsdam";X-APPLE-RADIUS=49;X-TITLE=Stadt- un
 d Landesbibliothek Potsdam:geo:13.059112,52.397182
GEO:13.059112;52.397182
SUMMARY:Lesung und Gespräch mit Kristof Magnusson \"Die Reise ans Ende der
  Geschichte\"
CLASS:PUBLIC
DESCRIPTION:Moderation: Andrea Schneider (Buchhandlung Viktoriagarten)\n\nF
 elix Krull trifft auf James Bond. Oder so ähnlich. **Kristof Magnusson** 
 hat mit seinem neuen Roman **„Die Reise ans Ende der Geschichte“** ein
 en modernen Abenteuerroman geschrieben.\n\n Anfang der 90er Jahre ist die 
 Welt eine Verheißung und Jakob Dreiser mittendrin: Der junge Dichter wird
  in Rom für sein Werk gefeiert\, der Kalte Krieg ist endlich Geschichte u
 nd die russische Botschaft lädt zum Gartenfest mit Krimsekt und Piroggen.
  Die Welt strebt nach Frieden und Glück – und diesmal scheint sie es er
 nst zu meinen. Dieter Germeshausen dagegen kann sein Pech kaum fassen. Jah
 relang war er Geheimdienstmitarbeiter und Doppelagent\, nun muss er dringe
 nd untertauchen. Ausgerechnet jetzt\, wo er zum ersten Mal verliebt ist. G
 ermeshausen braucht einen Plan\, so viel steht fest. Und er braucht Jakob 
 Dreiser. Denn für seinen großen Coup gibt es keine bessere Tarnung als e
 inen international gefeierten Dichter. Eine herrlich turbulente Geschichte
  über Sehnsüchte\, Täuschungen und das Scheitern im Moment der vermeint
 lichen Freiheit.\n\n**Kristof Magnusson\,** geboren 1976 in Hamburg\, schr
 eibt Romane\, Theaterstücke\, übersetzt aus dem Isländischen und engagi
 ert sich für Literatur in einfacher Sprache.  Sein Theaterstück „Männ
 erhort“ wurde für das Kino verfilmt\, 2023 wurde er mit dem Rom-Preis d
 er Villa Massimo ausgezeichnet. Kristof Magnusson ist SPIEGEL-Bestsellerau
 tor\, zuletzt erschien sein gefeierter Roman „Ein Mann der Kunst“. Er 
 lebt in Berlin.\n\nKontakt:\n\nStadt- und Landesbibliothek Potsdam\nAm Kan
 al 47\n14467 Potsdam\nTelefon: +49 331 2896666\nEmail: slb@bibliothek.pots
 dam.de\nWebseite: https://bibliothek.potsdam.de/de\n\nWeitere Informatione
 n zur Veranstaltung: http://www.reiseland-brandenburg.de/veranstaltung/pot
 sdam/lesung-und-gespraech-mit-kristof-magnusson-die-reise-ans-ende-der-ges
 chichte
CATEGORIES:Lesung / Vortrag
DTSTAMP:20260423T113339Z
END:VEVENT
END:VCALENDAR