BEGIN:VCALENDAR
VERSION:2.0
PRODID:www.reiseland-brandenburg.de
BEGIN:VEVENT
UID:69e9ee778e5e4
DTSTART:20261206T140000Z
SEQUENCE:0
TRANSP:OPAQUE
DTEND:20261206T160000Z
URL:http://www.reiseland-brandenburg.de/veranstaltung/elbe-elster-land/adve
 ntskonzert-in-saxdorf
LOCATION:Pfarrgarten Saxdorf\, Hauptstraße 5\, 04895 Saxdorf
X-APPLE-STRUCTURED-LOCATION;VALUE=URI;X-ADDRESS="Pfarrgarten Saxdorf, Haupt
 straße 5, 04895 Saxdorf";X-APPLE-RADIUS=49;X-TITLE=Pfarrgarten Saxdorf:ge
 o:13.284606,51.501871
GEO:13.284606;51.501871
SUMMARY:Adventskonzert in Saxdorf
CLASS:PUBLIC
DESCRIPTION:Lieder zum Advent mit dem Fröhlichen Chor Leipzig\n\nKontakt:\
 n\nKunst- und Kultursommer Saxdorf e.V.\nHauptstraße 5\n04895 Saxdorf\nTe
 lefon: +49 35365 8390\nEmail: kontakt@saxdorf.de\n\nWeitere Informationen 
 zur Veranstaltung: http://www.reiseland-brandenburg.de/veranstaltung/elbe-
 elster-land/adventskonzert-in-saxdorf
CATEGORIES:Klassisches Konzert / Oper,Chor / Folklore / Volksmusik
DTSTAMP:20260423T100335Z
END:VEVENT
END:VCALENDAR