BEGIN:VCALENDAR
VERSION:2.0
PRODID:www.reiseland-brandenburg.de
BEGIN:VEVENT
UID:69e8857824f99
DTSTART:20260618T110000Z
SEQUENCE:0
TRANSP:OPAQUE
DTEND:20260618T120000Z
URL:http://www.reiseland-brandenburg.de/veranstaltung/potsdam/lunchkonzert-
 ensemble-kima
LOCATION:Nikolaisaal Potsdam\, Wilhelm-Staab-Straße 10-11\, 14467 Potsdam
X-APPLE-STRUCTURED-LOCATION;VALUE=URI;X-ADDRESS="Nikolaisaal Potsdam, Wilhe
 lm-Staab-Straße 10-11, 14467 Potsdam";X-APPLE-RADIUS=49;X-TITLE=Nikolaisa
 al Potsdam:geo:13.055890,52.397977
GEO:13.055890;52.397977
SUMMARY:Lunchkonzert: Ensemble Kima
CLASS:PUBLIC
DESCRIPTION:Junge Ensembles im Wettbewerb\n\nProgramm  \n»Törichte Mensch
 en & raffinierte Tiere«  \nversammelt das Vokalensemble in seinem  \nmusi
 kalischen Bestiarium und bringt  \nganz verschiedene Facetten   \nspätmit
 telalterlicher A-cappella-Kunst   \nzum Funkeln: graziöse Eleganz\,   \nb
 eißende Ironie und subtile Virtuosität.\n\nMitwirkende  \nKaho Inoue\, I
 vana Sofia Ivanovic\,   \nLéon Roch\, Arthur Baldensperger   \nGesang\n\n
 Bei der mittäglichen Konzertreihe mit vielversprechenden Newcomern der Al
 ten Musik sind originelle Programmideen und hohe musikalische Könnerschaf
 t garantiert. Die vier besten unter den 21 Bewerbern wetteifern um die Gun
 st des Publikums und den Siegespreis der Jury unter Vorsitz von Dorothee O
 berlinger: ein Konzert bei den Musikfestspielen 2027. Die Vorjahressieger 
 Il Concerto Intempestivo präsentieren am 13. Juni im Raffaelsaal des Oran
 gerieschlosses Sanssouci ihr brandneues Programm. Und natürlich schwärme
 n die vier Ensembles wieder in Schulen und Kitas aus und versorgen junge O
 hren mit Alter Musik.  \n\n_Einlass 12.45 Uhr_\n\nGenießen Sie ca. 60 Min
 uten Musik. Im Anschluss bietet das Cafe Ricciotti ab 10\,50 € ein Lunch
 gericht an. Reservierung bis spätestens eine Woche vor dem Konzert unter 
 [_0331 585 652 20_](tel:+4933158565220).\n\nKontakt:\n\nMusikfestspiele Sa
 nssouci & Nikolaisaal Potsdam\nWilhelm-Staab-Str. 10/11 D\n14467 Potsdam\n
 Telefon: +49 331 2888819\nEmail: service@musikfestspiele-potsdam.de\n\nWei
 tere Informationen zur Veranstaltung: http://www.reiseland-brandenburg.de/
 veranstaltung/potsdam/lunchkonzert-ensemble-kima
CATEGORIES:Klassisches Konzert / Oper
DTSTAMP:20260422T082320Z
END:VEVENT
END:VCALENDAR