BEGIN:VCALENDAR
VERSION:2.0
PRODID:www.reiseland-brandenburg.de
BEGIN:VEVENT
UID:69ed909ac07f9
DTSTART:20260430T153000Z
SEQUENCE:0
TRANSP:OPAQUE
DTEND:20260430T163000Z
URL:http://www.reiseland-brandenburg.de/veranstaltung/havelland/auszeit-ate
 mzeit-und-ernaehrung-ganzheitliche-auszeit-fuer-koerper-und-kopf
LOCATION:Schlosspark Caputh\, Straße der Einheit 2\, 14548 Schwielowsee
X-APPLE-STRUCTURED-LOCATION;VALUE=URI;X-ADDRESS="Schlosspark Caputh, Straß
 e der Einheit 2, 14548 Schwielowsee";X-APPLE-RADIUS=49;X-TITLE=Schlosspark
  Caputh:geo:13.001298,52.348823
GEO:13.001298;52.348823
SUMMARY:Auszeit: Atemzeit & Ernährung- ganzheitliche Auszeit für Körper 
 und Kopf
CLASS:PUBLIC
DESCRIPTION:Diese Einheit verbindet bewusste Atemarbeit mit alltagstauglich
 en Ernährungs- und Vitalstoffimpulsen.  \nIm ersten Teil werden durch gez
 ielte Atemübungen Stress reduziert und innere Ruhe aufgebaut.  \nIm zweit
 en Teil erhalten die Teilnehmerinnen verständliche Impulse\, wie Ernähru
 ng und Nährstoffversorgung im Alltag zu mehr Energie\, Stabilität und Wo
 hlbefinden beitragen können – ohne Diät\, ohne Leistungsdruck.\n\nDer 
 Fokus liegt auf Umsetzbarkeit\, Selbstfürsorge und Klarheit.\n\nTeilnehme
 rzahl: 6 - 10 Personen\n\nDauer: 60 Minuten\n\nKontakt:\n\nEmpowerfit - Pe
 rsonal Training & Ernährungsberatung\, Susanne Fritze\nZiegelstr. 17a\n14
 548 Schwielowsee\nTelefon: +49 172 8023351\nEmail: info@empowerfit-schwiel
 owsee.de\nWebseite: https://empowerfit-schwielowsee.de/\n\nWeitere Informa
 tionen zur Veranstaltung: http://www.reiseland-brandenburg.de/veranstaltun
 g/havelland/auszeit-atemzeit-und-ernaehrung-ganzheitliche-auszeit-fuer-koe
 rper-und-kopf
CATEGORIES:Wellness / Gesundheit,Sport
DTSTAMP:20260426T041210Z
END:VEVENT
END:VCALENDAR