BEGIN:VCALENDAR
VERSION:2.0
PRODID:www.reiseland-brandenburg.de
BEGIN:VEVENT
UID:69e77f859fd61
DTSTART:20260502T100000Z
SEQUENCE:0
TRANSP:OPAQUE
DTEND:20260502T160000Z
URL:http://www.reiseland-brandenburg.de/veranstaltung/seenland-oder-spree/o
 ffenes-atelier-bei-christine-pfundt
LOCATION:Grafik Plastik Keramik Christine Pfundt\, Am Roten Haus 4\, 15377 
 Buckow Märkische Schweiz
X-APPLE-STRUCTURED-LOCATION;VALUE=URI;X-ADDRESS="Grafik Plastik Keramik Chr
 istine Pfundt, Am Roten Haus 4, 15377 Buckow Märkische Schweiz";X-APPLE-R
 ADIUS=49;X-TITLE=Grafik Plastik Keramik Christine Pfundt:geo:14.075956,52.
 567922
GEO:14.075956;52.567922
SUMMARY:Offenes Atelier bei Christine Pfundt
CLASS:PUBLIC
DESCRIPTION:Christine Pfundt präsentiert Zeichnungen in Tusche und diverse
 n Mischtechniken\, keramische Plastiken\, Geschirr in Ton und Porzellan.\n
 \nKontakt:\n\nGrafik\, Plastik\, Keramik  Christine Pfundt\nAm Roten Haus 
 4\n15377 Buckow Märkische Schweiz\nTelefon: +49\nEmail: post@christine-pf
 undt.de\n\nWeitere Informationen zur Veranstaltung: http://www.reiseland-b
 randenburg.de/veranstaltung/seenland-oder-spree/offenes-atelier-bei-christ
 ine-pfundt
CATEGORIES:Ausstellung
DTSTAMP:20260421T134542Z
END:VEVENT
BEGIN:VEVENT
UID:69e77f85b2d02
DTSTART:20260503T100000Z
SEQUENCE:0
TRANSP:OPAQUE
DTEND:20260503T160000Z
URL:http://www.reiseland-brandenburg.de/veranstaltung/seenland-oder-spree/o
 ffenes-atelier-bei-christine-pfundt
LOCATION:Grafik Plastik Keramik Christine Pfundt\, Am Roten Haus 4\, 15377 
 Buckow Märkische Schweiz
X-APPLE-STRUCTURED-LOCATION;VALUE=URI;X-ADDRESS="Grafik Plastik Keramik Chr
 istine Pfundt, Am Roten Haus 4, 15377 Buckow Märkische Schweiz";X-APPLE-R
 ADIUS=49;X-TITLE=Grafik Plastik Keramik Christine Pfundt:geo:14.075956,52.
 567922
GEO:14.075956;52.567922
SUMMARY:Offenes Atelier bei Christine Pfundt
CLASS:PUBLIC
DESCRIPTION:Christine Pfundt präsentiert Zeichnungen in Tusche und diverse
 n Mischtechniken\, keramische Plastiken\, Geschirr in Ton und Porzellan.\n
 \nKontakt:\n\nGrafik\, Plastik\, Keramik  Christine Pfundt\nAm Roten Haus 
 4\n15377 Buckow Märkische Schweiz\nTelefon: +49\nEmail: post@christine-pf
 undt.de\n\nWeitere Informationen zur Veranstaltung: http://www.reiseland-b
 randenburg.de/veranstaltung/seenland-oder-spree/offenes-atelier-bei-christ
 ine-pfundt
CATEGORIES:Ausstellung
DTSTAMP:20260421T134542Z
END:VEVENT
END:VCALENDAR