BEGIN:VCALENDAR
VERSION:2.0
PRODID:www.reiseland-brandenburg.de
BEGIN:VEVENT
UID:69ed5b0cde1ab
DTSTART:20260531T120000Z
SEQUENCE:0
TRANSP:OPAQUE
DTEND:20260531T153000Z
URL:http://www.reiseland-brandenburg.de/veranstaltung/seenland-oder-spree/d
 en-raritaeten-auf-der-spur-fuehrung-durch-den-sauener-pappelmuttergarten
LOCATION:Stiftung August Bier\, Ziegeleiweg 1\, 15848 Rietz-Neuendorf
X-APPLE-STRUCTURED-LOCATION;VALUE=URI;X-ADDRESS="Stiftung August Bier, Zieg
 eleiweg 1, 15848 Rietz-Neuendorf";X-APPLE-RADIUS=49;X-TITLE=Stiftung Augus
 t Bier:geo:14.201528,52.268954
GEO:14.201528;52.268954
SUMMARY:Den Raritäten auf der Spur - Führung durch den Sauener Pappelmutt
 ergarten
CLASS:PUBLIC
DESCRIPTION:Im Herzen des Sauener Waldes liegt der sogenannte Pappelmutterg
 arten. Hier wurden in den 1960er Jahren von Forstmeister Heinrich Bier sel
 tene Baumarten angepflanzt\, von denen heute noch einige zu bewundern sind
 . \n\nAuf einer dreieinhalbstündigen Tour mit Norman Heß\, dem zertifizi
 erten Natur- und Landschaftsführer\, erleben Interessierte diese Gehölzr
 aritäten mit allen Sinnen und erfahren einiges über dieses verborgene Ar
 eal im Sauener Wald.\n\n \n\n**Treff ist am Sonntag\, den 31. Mai 2026\, a
 n der Försterei der Stiftung August Bier in Sauen\, Rietz-Neuendorf. Die 
 Veranstaltung beginnt um 14 Uhr. Festes Schuhwerk und lange Kleidung (Zeck
 en- und Mückenschutz) sind zu empfehlen. Die Wege sind nicht barrierefrei
  (teilweise unwegsames Gelände)**\n\n**Teilnehmerzahl: min. 3\, max. 20**
 \n\nKontakt:\n\nNorman Heß\n\n15299 Müllrose\nTelefon: +49 33672 72759\n
 Email: info@stiftung-august-bier.de\n\nWeitere Informationen zur Veranstal
 tung: http://www.reiseland-brandenburg.de/veranstaltung/seenland-oder-spre
 e/den-raritaeten-auf-der-spur-fuehrung-durch-den-sauener-pappelmuttergarte
 n
CATEGORIES:Kinder und Jugendliche,Führung / Besichtigung
DTSTAMP:20260426T002341Z
END:VEVENT
END:VCALENDAR