BEGIN:VCALENDAR
VERSION:2.0
PRODID:www.reiseland-brandenburg.de
BEGIN:VEVENT
UID:69ed876b7fdf9
DTSTART:20260705T150000Z
SEQUENCE:0
TRANSP:OPAQUE
DTEND:20260705T163000Z
URL:http://www.reiseland-brandenburg.de/veranstaltung/seenland-oder-spree/l
 eute-bei-lippert-im-theater-am-see
LOCATION:Theater am See\, Seestraße  22\, 15526 Bad Saarow
X-APPLE-STRUCTURED-LOCATION;VALUE=URI;X-ADDRESS="Theater am See, Seestraße
   22, 15526 Bad Saarow";X-APPLE-RADIUS=49;X-TITLE=Theater am See:geo:14.05
 5713,52.291247
GEO:14.055713;52.291247
SUMMARY:Leute bei Lippert im Theater am See
CLASS:PUBLIC
DESCRIPTION:„Leute bei Lippert“ ist die neue Live-Veranstaltungsreihe v
 on Moderator und Entertainer Wolfgang Lippert\, die ab 29. März 2026 exkl
 usiv im traditionsreichen „Theater am See“ in Bad Saarow stattfindet. 
 Das Talk-Format knüpft an Lipperts langjährige Erfahrung als Gastgeber\,
  Musiker und Entertainer an und bringt sie in ein modernes Setting\, das N
 ähe schafft und gleichzeitig Raum für ungewöhnliche Lebensgeschichten l
 ässt. In rund 90 Minuten plus Pause lädt Lippert sein Publikum ein\, au
 ßergewöhnliche Menschen kennenzulernen\, die mit ihren Biografien überr
 aschen\, inspirieren\, irritieren oder zum Staunen bringen.\n\nKontakt:\n\
 nTheater am See\nSeestraße  22\n15526 Bad Saarow\nTelefon: +49 033631 868
 600\nEmail: info@theater-am-see.de\nWebseite: https://www.theater-am-see.d
 e/\n\nWeitere Informationen zur Veranstaltung: http://www.reiseland-brande
 nburg.de/veranstaltung/seenland-oder-spree/leute-bei-lippert-im-theater-am
 -see
CATEGORIES:Lesung / Vortrag
DTSTAMP:20260426T033259Z
END:VEVENT
END:VCALENDAR