BEGIN:VCALENDAR
VERSION:2.0
PRODID:www.reiseland-brandenburg.de
BEGIN:VEVENT
UID:69e76666491da
DTSTART:20260503T130000Z
SEQUENCE:0
TRANSP:OPAQUE
DTEND:20260503T143000Z
URL:http://www.reiseland-brandenburg.de/veranstaltung/havelland/vintage-jaz
 z-friends-in-der-kulturkirche-petzow
LOCATION:Kulturkirche Petzow\, Fercher Straße  50 B\, 14542 Werder (Havel)
X-APPLE-STRUCTURED-LOCATION;VALUE=URI;X-ADDRESS="Kulturkirche Petzow, Ferch
 er Straße  50 B, 14542 Werder (Havel)";X-APPLE-RADIUS=49;X-TITLE=Kulturki
 rche Petzow:geo:12.946020,52.348660
GEO:12.946020;52.348660
SUMMARY:Vintage Jazz Friends in der Kulturkirche Petzow
CLASS:PUBLIC
DESCRIPTION:Das Quartett überzeugt mit feurigem Jazz\, Swing & Blues der 2
 0er\, 30er und 40er Jahre.\n\nKontakt:\n\nLandkreis Potsdam-Mittelmark\nNi
 emöllerstraße 1\n14806 Bad Belzig\nTelefon: +49 033841  91442\nEmail: Ku
 ltur@Potsdam-Mittelmark.de\nWebseite: https://www.potsdam-mittelmark.de/de
 /\n\nWeitere Informationen zur Veranstaltung: http://www.reiseland-branden
 burg.de/veranstaltung/havelland/vintage-jazz-friends-in-der-kulturkirche-p
 etzow
CATEGORIES:Chor / Folklore / Volksmusik
DTSTAMP:20260421T115830Z
END:VEVENT
END:VCALENDAR