BEGIN:VCALENDAR
VERSION:2.0
PRODID:www.reiseland-brandenburg.de
BEGIN:VEVENT
UID:69ea06d4718d4
DTSTART:20260607T080000Z
SEQUENCE:0
TRANSP:OPAQUE
DTEND:20260607T140000Z
URL:http://www.reiseland-brandenburg.de/veranstaltung/uckermark/familienzei
 t-natuerlich-gaertnern-ohne-torf
LOCATION:NABU-Naturerlebniszentrum Blumberger Mühle\, Blumberger Mühle 2\
 , 16278 Angermünde
X-APPLE-STRUCTURED-LOCATION;VALUE=URI;X-ADDRESS="NABU-Naturerlebniszentrum 
 Blumberger Mühle, Blumberger Mühle 2, 16278 Angermünde";X-APPLE-RADIUS=
 49;X-TITLE=NABU-Naturerlebniszentrum Blumberger Mühle:geo:13.965768,53.03
 5049
GEO:13.965768;53.035049
SUMMARY:Familienzeit: Natürlich gärtnern ohne Torf
CLASS:PUBLIC
DESCRIPTION:Gärtnern mit Zukunft: Entdecken Sie torffreie Erde und umweltf
 reundliche Tipps für ein klimaangepasstes Grün.\n\nDas Programm richtet 
 sich vor allem an Familien.  \nDie Veranstaltung ist kostenfrei. Anmeldung
  bis 05.06. unter: 03331 26040 oder [anmeldung.blumberger-muehle@nabu.de](
 mailto:anmeldung.blumberger-muehle@nabu.de)\n\nKontakt:\n\nNABU-Naturerleb
 niszentrum Blumberger Mühle\nBlumberger Mühle 2\n16278 Angermünde\nTele
 fon: +49 03331 26040\nEmail: blumberger-muehle@NABU.de\nWebseite: https://
 blumberger-muehle.nabu.de/\n\nWeitere Informationen zur Veranstaltung: htt
 p://www.reiseland-brandenburg.de/veranstaltung/uckermark/familienzeit-natu
 erlich-gaertnern-ohne-torf
CATEGORIES:Führung / Besichtigung
DTSTAMP:20260423T114732Z
END:VEVENT
END:VCALENDAR