BEGIN:VCALENDAR
VERSION:2.0
PRODID:www.reiseland-brandenburg.de
BEGIN:VEVENT
UID:69ea1d3a8022d
DTSTART:20260705T080000Z
SEQUENCE:0
TRANSP:OPAQUE
DTEND:20260705T140000Z
URL:http://www.reiseland-brandenburg.de/veranstaltung/uckermark/familienzei
 t-der-lebenswerte-boden
LOCATION:NABU-Naturerlebniszentrum Blumberger Mühle\, Blumberger Mühle 2\
 , 16278 Angermünde
X-APPLE-STRUCTURED-LOCATION;VALUE=URI;X-ADDRESS="NABU-Naturerlebniszentrum 
 Blumberger Mühle, Blumberger Mühle 2, 16278 Angermünde";X-APPLE-RADIUS=
 49;X-TITLE=NABU-Naturerlebniszentrum Blumberger Mühle:geo:13.965768,53.03
 5049
GEO:13.965768;53.035049
SUMMARY:Familienzeit: Der lebenswerte Boden
CLASS:PUBLIC
DESCRIPTION:Entdecken Sie gemeinsam die faszinierende Welt unter unseren F
 üßen und lernen Sie die Bewohner des Bodens kennen.\n\nDas Programm rich
 tet sich vor allem an Familien.  \nDie Veranstaltung ist kostenfrei. Anmel
 dung bis 03.07. unter: 03331 26040 oder [anmeldung.blumberger-muehle@nabu.
 de](mailto:anmeldung.blumberger-muehle@nabu.de)\n\nKontakt:\n\nNABU-Nature
 rlebniszentrum Blumberger Mühle\nBlumberger Mühle 2\n16278 Angermünde\n
 Telefon: +49 03331 26040\nEmail: blumberger-muehle@NABU.de\nWebseite: http
 s://blumberger-muehle.nabu.de/\n\nWeitere Informationen zur Veranstaltung:
  http://www.reiseland-brandenburg.de/veranstaltung/uckermark/familienzeit-
 der-lebenswerte-boden
CATEGORIES:Führung / Besichtigung
DTSTAMP:20260423T132306Z
END:VEVENT
END:VCALENDAR