BEGIN:VCALENDAR
VERSION:2.0
PRODID:www.reiseland-brandenburg.de
BEGIN:VEVENT
UID:69e77e84a8d4d
DTSTART:20260524T130000Z
SEQUENCE:0
TRANSP:OPAQUE
DTEND:20260524T150000Z
URL:http://www.reiseland-brandenburg.de/veranstaltung/elbe-elster-land/kurk
 onzert-mit-den-original-falkenberger-blasmusikanten
LOCATION:Kurpark Bad Liebenwerda\, Am Kurpark  1\, 04924 Bad Liebenwerda
X-APPLE-STRUCTURED-LOCATION;VALUE=URI;X-ADDRESS="Kurpark Bad Liebenwerda, A
 m Kurpark  1, 04924 Bad Liebenwerda";X-APPLE-RADIUS=49;X-TITLE=Kurpark Bad
  Liebenwerda:geo:13.402280,51.515960
GEO:13.402280;51.515960
SUMMARY:Kurkonzert mit den \"Original Falkenberger Blasmusikanten\"
CLASS:PUBLIC
DESCRIPTION:Die Original Falkenberger Blasmusikanten gibt es bereits seit d
 em 27. Mai 1980. Ihr breitgefächertes Repertoire verspricht zum wiederhol
 ten Male einen kurzweiligen Nachmittag im Kurpark von Bad Liebenwerda!\n\n
 Kontakt:\n\nTourist Information Bad Liebenwerda\nTourist Information\nRoß
 markt 12\n04924 Bad Liebenwerda\nTelefon: +49 35341 6280\nEmail: info@bad-
 liebenwerda.de\nWebseite: http://bad-liebenwerda.de\n\nWeitere Information
 en zur Veranstaltung: http://www.reiseland-brandenburg.de/veranstaltung/el
 be-elster-land/kurkonzert-mit-den-original-falkenberger-blasmusikanten
CATEGORIES:Chor / Folklore / Volksmusik
DTSTAMP:20260421T134124Z
END:VEVENT
END:VCALENDAR