BEGIN:VCALENDAR
VERSION:2.0
PRODID:www.reiseland-brandenburg.de
BEGIN:VEVENT
UID:69e6272dbfe26
DTSTART:20260517T143000Z
SEQUENCE:0
TRANSP:OPAQUE
DTEND:20260517T153000Z
URL:http://www.reiseland-brandenburg.de/veranstaltung/potsdam/kuratorenfueh
 rung-zur-sonderausstellung-das-graue-elend-von-potsdam
LOCATION:Gedenkstätte Lindenstraße\, Lindenst. 54\, 14467 Potsdam
X-APPLE-STRUCTURED-LOCATION;VALUE=URI;X-ADDRESS="Gedenkstätte Lindenstraß
 e, Lindenst. 54, 14467 Potsdam";X-APPLE-RADIUS=49;X-TITLE=Gedenkstätte Li
 ndenstraße:geo:13.052204,52.400560
GEO:13.052204;52.400560
SUMMARY:Kuratorenführung zur Sonderausstellung „Das graue Elend von Pots
 dam“
CLASS:PUBLIC
DESCRIPTION:Die Sonderausstellung \"Das graue Elend von Potsdam. Sowjetisch
 er Haft- und Tribunalort Lindenstraße 1945-1952\" nimmt die sowjetische N
 utzungsphase des Potsdamer Justiz- und Haftortes Lindenstraße in den Blic
 k. Dieses Areal beschlagnahmte der sowjetische Geheimdienst im Juli 1945. 
 Er nutzte es bis 1952 im Kontext von Entnazifizierung und der Errichtung e
 iner neuen Diktatur stalinistischer Prägung. Der Haftort Lindenstraße di
 ente als überregionales Sammel-\, Untersuchungs- und Durchgangsgefängnis
  für mehr als 2.000 Männer\, Frauen und Jugendliche aus über 15 Natione
 n Europas. Im Gerichtssaal tagten Sowjetische Militärtribunale. Sie verh
 ängten in Prozessen\, die keinerlei rechtsstaatlichen Grundsätzen entspr
 achen\, unverhältnismäßig hohe Strafen bis hin zur Todesstrafe.\n\n#pro
 wissen\n\nKontakt:\n\nStiftung Gedenkstätte Lindenstraße\nLindenstraße 
 54\n14467 Potsdam\nTelefon: +49 331 97189000\nEmail: info@gedenkstaette-li
 ndenstrasse.de\n\nWeitere Informationen zur Veranstaltung: http://www.reis
 eland-brandenburg.de/veranstaltung/potsdam/kuratorenfuehrung-zur-sonderaus
 stellung-das-graue-elend-von-potsdam
CATEGORIES:Ausstellung,Führung / Besichtigung
DTSTAMP:20260420T131629Z
END:VEVENT
END:VCALENDAR