BEGIN:VCALENDAR
VERSION:2.0
PRODID:www.reiseland-brandenburg.de
BEGIN:VEVENT
UID:69e7cf5d372e4
DTSTART:20260513T160000Z
SEQUENCE:0
TRANSP:OPAQUE
DTEND:20260513T183000Z
URL:http://www.reiseland-brandenburg.de/veranstaltung/havelland/so-machen-e
 s-alle-cosi-fan-tutte
LOCATION:Brandenburger Theater GmbH\, Grabenstraße 14\, 14776 Brandenburg 
 an der Havel
X-APPLE-STRUCTURED-LOCATION;VALUE=URI;X-ADDRESS="Brandenburger Theater GmbH
 , Grabenstraße 14, 14776 Brandenburg an der Havel";X-APPLE-RADIUS=49;X-TI
 TLE=Brandenburger Theater GmbH:geo:12.555903,52.407848
GEO:12.555903;52.407848
SUMMARY:So machen es Alle (Cosí fan Tutte)
CLASS:PUBLIC
DESCRIPTION:OPER VON W. A. MOZART ÜBERSETZUNG IN EINFACHE DEUTSCHE SPRACHE
  VON ELNA LINDGENS NACH LORENZO DA PONTE - Musiktheater\n\nFerrando und Gu
 glielmo sind sehr verliebt. Sie glauben\, dass ihre Freundinnen treu sind 
 – also nur sie lieben. Aber ihr Freund Don Alfonso sagt: „Ich glaube\,
  keine Frau bleibt treu\, wenn ihr ein anderer Mann gefällt.“ Er schlä
 gt eine Wette vor: Die Männer sollen ihre Freundinnen testen. Ferrando un
 d Guglielmo tun so\, als müssten sie in den Krieg. Sie verabschieden sich
  und gehen – aber sie kommen verkleidet zurück\, als zwei fremde Männe
 r. Jetzt versuchen sie\, die Freundin des anderen zu verführen. Zuerst sa
 gen die beiden Frauen: „Nein!“. Aber dann fangen sie an zu zweifeln. D
 orabella gibt zuerst nach. Fiordiligi kämpft mit sich – aber auch sie v
 erliebt sich neu. Die Dienerin Despina hilft dabei – sie findet das Spie
 l lustig. Sie verkleidet sich sogar als Notar\, um eine Doppelhochzeit zu 
 machen. Doch dann fliegt alles auf: Die Männer zeigen\, wer sie wirklich 
 sind. ...\n\nKontakt:\n\nBrandenburger Theater GmbH\nTheaterkasse\nGrabens
 tr. 14\n14776 Brandenburg an der Havel\nTelefon: +49 3381 511111\nEmail: b
 esucherservice@brandenburgertheater.de\nWebseite: http://www.brandenburger
 theater.de\n\nWeitere Informationen zur Veranstaltung: http://www.reiselan
 d-brandenburg.de/veranstaltung/havelland/so-machen-es-alle-cosi-fan-tutte
CATEGORIES:Klassisches Konzert / Oper
DTSTAMP:20260421T192621Z
END:VEVENT
END:VCALENDAR