BEGIN:VCALENDAR
VERSION:2.0
PRODID:www.reiseland-brandenburg.de
BEGIN:VEVENT
UID:69e752f06d6cc
DTSTART:20260828T180000Z
SEQUENCE:0
TRANSP:OPAQUE
DTEND:20260828T200000Z
URL:http://www.reiseland-brandenburg.de/veranstaltung/havelland/the-clogs
LOCATION:Vielfruchthof Domstiftsgut Mötzow\, Gutshof 1\, 14778 Beetzseehei
 de
X-APPLE-STRUCTURED-LOCATION;VALUE=URI;X-ADDRESS="Vielfruchthof Domstiftsgut
  Mötzow, Gutshof 1, 14778 Beetzseeheide";X-APPLE-RADIUS=49;X-TITLE=Vielfr
 uchthof Domstiftsgut Mötzow:geo:12.591534,52.463791
GEO:12.591534;52.463791
SUMMARY:The Clogs
CLASS:PUBLIC
DESCRIPTION:Die Glamour-Rockband aus der Region tourt seit Jahren erfolgrei
 ch durch Deutschland und Europa. Mit ihrem außergewöhnlichen Rock`n´Rol
 l-Sound und ihren Retro-Phantasiekostümen verstehen es THE CLOGS zuverlä
 ssig\, bei jung und alt Partyattacken zu erzeugen. Dabei präsentieren sie
  eine grandiose Show mit den größten Hits von Status Quo\, Kiss\, ABBA\,
  Queen\, Smokie\, den Rolling Stones oder Village People. Das alles gewohn
 t eigenwillig präsentiert: „Retro-Phantasie-Look-Rock“ vom Feinsten!\
 n\nKontakt:\n\nevent-theater e.V.\nRitterstraße 69\n14770 Brandenburg an 
 der Havel\nTelefon: +49 3381 793277\nEmail: info@event-theater.de\nWebseit
 e: http://www.event-theater.de\n\nWeitere Informationen zur Veranstaltung:
  http://www.reiseland-brandenburg.de/veranstaltung/havelland/the-clogs
CATEGORIES:Rock / Pop / Jazz
DTSTAMP:20260421T103528Z
END:VEVENT
END:VCALENDAR