BEGIN:VCALENDAR
VERSION:2.0
PRODID:www.reiseland-brandenburg.de
BEGIN:VEVENT
UID:69e7899c7784d
DTSTART:20260905T180000Z
SEQUENCE:0
TRANSP:OPAQUE
DTEND:20260905T200000Z
URL:http://www.reiseland-brandenburg.de/veranstaltung/havelland/wischmeyers
 -zeltmission-2026
LOCATION:Vielfruchthof Domstiftsgut Mötzow\, Gutshof 1\, 14778 Beetzseehei
 de
X-APPLE-STRUCTURED-LOCATION;VALUE=URI;X-ADDRESS="Vielfruchthof Domstiftsgut
  Mötzow, Gutshof 1, 14778 Beetzseeheide";X-APPLE-RADIUS=49;X-TITLE=Vielfr
 uchthof Domstiftsgut Mötzow:geo:12.591534,52.463791
GEO:12.591534;52.463791
SUMMARY:WISCHMEYERS ZELTMISSION 2026
CLASS:PUBLIC
DESCRIPTION:Seit Jahren ein fester Termin im Spätsommer: WISCHMEYERS ZELTM
 ISSION\, die aktuelle Abrechnung mit dem Alltagswahnsinn! Der Stoff geht d
 em geneigten Zeitzeugen und akribischen Beobachter Dietmar Wischmeyer dabe
 i nie aus\, denn die Welt der Bekloppten und Bescheuerten gebärt immer wi
 eder neue Absonderlichkeiten. Nicht nur To-Go oder vegan. Auch ganz normal
 . WISCHMEYERS ZELTMISSION 2026 ist die freiwillige Impfung gegen den tägl
 ichen Wahnsinn. Die Dosis wird an einem Abend verabreicht und schützt fü
 r ein Jahr.\n\nKontakt:\n\nevent-theater e.V.\nRitterstraße 69\n14770 Bra
 ndenburg an der Havel\nTelefon: +49 3381 793277\nEmail: info@event-theater
 .de\nWebseite: http://www.event-theater.de\n\nWeitere Informationen zur Ve
 ranstaltung: http://www.reiseland-brandenburg.de/veranstaltung/havelland/w
 ischmeyers-zeltmission-2026
CATEGORIES:Theater / Tanz / Kabarett
DTSTAMP:20260421T142844Z
END:VEVENT
END:VCALENDAR