BEGIN:VCALENDAR
VERSION:2.0
PRODID:www.reiseland-brandenburg.de
BEGIN:VEVENT
UID:69ea0c773bc61
DTSTART:20261107T100000Z
SEQUENCE:0
TRANSP:OPAQUE
DTEND:20261107T110000Z
URL:http://www.reiseland-brandenburg.de/veranstaltung/spreewald/oeffentlich
 e-schlossfuehrung-3
LOCATION:Museum Schloss Lübben\, Ernst-von-Houwald-Damm 14\, 15907 Lübben
  (Spreewald)
X-APPLE-STRUCTURED-LOCATION;VALUE=URI;X-ADDRESS="Museum Schloss Lübben, Er
 nst-von-Houwald-Damm 14, 15907 Lübben (Spreewald)";X-APPLE-RADIUS=49;X-TI
 TLE=Museum Schloss Lübben:geo:13.899101,51.940114
GEO:13.899101;51.940114
SUMMARY:Öffentliche Schlossführung
CLASS:PUBLIC
DESCRIPTION:Die Kombination aus mittelalterlichem Wehrturm\, Wappensaal und
  Renaissance-Schloss zeigt die wechselvolle Geschichte Lübbens als ehemal
 ige Residenz und Hauptstadt der Niederlausitz. Beim öffentlichen Rundgang
  im Schlossbereich erfahren Sie mehr über den Besuch des Kaisers\, die Re
 novierungswünsche des Herzogs und die erhaltenen Reste der mittelalterlic
 hen Wasserburg.\n\nKontakt:\n\nMuseum Schloss Lübben\nDr. Corinna Junker\
 nErnst-von-Houwald-Damm  14\n15907 Lübben (Spreewald)\nTelefon: +49 3546 
 187478\nEmail: museum@luebben.de\nWebseite: http://www.museum-luebben.de\n
 \nWeitere Informationen zur Veranstaltung: http://www.reiseland-brandenbur
 g.de/veranstaltung/spreewald/oeffentliche-schlossfuehrung-3
CATEGORIES:Führung / Besichtigung
DTSTAMP:20260423T121135Z
END:VEVENT
END:VCALENDAR